BEGIN:VCALENDAR
VERSION:2.0
PRODID:Events Booking
BEGIN:VEVENT
UID:69e63daa51357
SUMMARY:Vinterbadning ved Kongshøj Strand
DESCRIPTION:Vinterbadning ved Kongshøj Strand
LOCATION:Kongshæj Strand\, 5871 Frørup
DTSTART:20230114T080000Z
DTSTAMP:20230113T100801Z
ORGANIZER:MAILTO:Tårupportalen
GEO:55.2204;10.80961
X-APPLE-STRUCTURED-LOCATION;VALUE=URI;X-ADDRESS=Kongshæj Strand\, 5871 Fr
 ørup;X-APPLE-RADIUS=72;X-TITLE=Kongshøj Strand:55.2204;10.80961
END:VEVENT
BEGIN:VEVENT
UID:69e63daa513e1
SUMMARY:Vinterbadning ved Kongshøj Strand
DESCRIPTION:Vinterbadning ved Kongshøj Strand
LOCATION:Kongshæj Strand\, 5871 Frørup
DTSTART:20230121T080000Z
DTSTAMP:20230113T100801Z
ORGANIZER:MAILTO:Tårupportalen
GEO:55.2204;10.80961
X-APPLE-STRUCTURED-LOCATION;VALUE=URI;X-ADDRESS=Kongshæj Strand\, 5871 Fr
 ørup;X-APPLE-RADIUS=72;X-TITLE=Kongshøj Strand:55.2204;10.80961
END:VEVENT
BEGIN:VEVENT
UID:69e63daa513fd
SUMMARY:Vinterbadning ved Kongshøj Strand
DESCRIPTION:Vinterbadning ved Kongshøj Strand
LOCATION:Kongshæj Strand\, 5871 Frørup
DTSTART:20230128T080000Z
DTSTAMP:20230113T100801Z
ORGANIZER:MAILTO:Tårupportalen
GEO:55.2204;10.80961
X-APPLE-STRUCTURED-LOCATION;VALUE=URI;X-ADDRESS=Kongshæj Strand\, 5871 Fr
 ørup;X-APPLE-RADIUS=72;X-TITLE=Kongshøj Strand:55.2204;10.80961
END:VEVENT
BEGIN:VEVENT
UID:69e63daa51412
SUMMARY:Vinterbadning ved Kongshøj Strand
DESCRIPTION:Vinterbadning ved Kongshøj Strand
LOCATION:Kongshæj Strand\, 5871 Frørup
DTSTART:20230204T080000Z
DTSTAMP:20230113T100801Z
ORGANIZER:MAILTO:Tårupportalen
GEO:55.2204;10.80961
X-APPLE-STRUCTURED-LOCATION;VALUE=URI;X-ADDRESS=Kongshæj Strand\, 5871 Fr
 ørup;X-APPLE-RADIUS=72;X-TITLE=Kongshøj Strand:55.2204;10.80961
END:VEVENT
BEGIN:VEVENT
UID:69e63daa51425
SUMMARY:Vinterbadning ved Kongshøj Strand
DESCRIPTION:Vinterbadning ved Kongshøj Strand
LOCATION:Kongshæj Strand\, 5871 Frørup
DTSTART:20230211T080000Z
DTSTAMP:20230113T100801Z
ORGANIZER:MAILTO:Tårupportalen
GEO:55.2204;10.80961
X-APPLE-STRUCTURED-LOCATION;VALUE=URI;X-ADDRESS=Kongshæj Strand\, 5871 Fr
 ørup;X-APPLE-RADIUS=72;X-TITLE=Kongshøj Strand:55.2204;10.80961
END:VEVENT
BEGIN:VEVENT
UID:69e63daa51438
SUMMARY:Vinterbadning ved Kongshøj Strand
DESCRIPTION:Vinterbadning ved Kongshøj Strand
LOCATION:Kongshæj Strand\, 5871 Frørup
DTSTART:20230218T080000Z
DTSTAMP:20230113T100801Z
ORGANIZER:MAILTO:Tårupportalen
GEO:55.2204;10.80961
X-APPLE-STRUCTURED-LOCATION;VALUE=URI;X-ADDRESS=Kongshæj Strand\, 5871 Fr
 ørup;X-APPLE-RADIUS=72;X-TITLE=Kongshøj Strand:55.2204;10.80961
END:VEVENT
BEGIN:VEVENT
UID:69e63daa5144b
SUMMARY:Vinterbadning ved Kongshøj Strand
DESCRIPTION:Vinterbadning ved Kongshøj Strand
LOCATION:Kongshæj Strand\, 5871 Frørup
DTSTART:20230225T080000Z
DTSTAMP:20230113T100801Z
ORGANIZER:MAILTO:Tårupportalen
GEO:55.2204;10.80961
X-APPLE-STRUCTURED-LOCATION;VALUE=URI;X-ADDRESS=Kongshæj Strand\, 5871 Fr
 ørup;X-APPLE-RADIUS=72;X-TITLE=Kongshøj Strand:55.2204;10.80961
END:VEVENT
BEGIN:VEVENT
UID:69e63daa51460
SUMMARY:Vinterbadning ved Kongshøj Strand
DESCRIPTION:Vinterbadning ved Kongshøj Strand
LOCATION:Kongshæj Strand\, 5871 Frørup
DTSTART:20230304T080000Z
DTSTAMP:20230113T100801Z
ORGANIZER:MAILTO:Tårupportalen
GEO:55.2204;10.80961
X-APPLE-STRUCTURED-LOCATION;VALUE=URI;X-ADDRESS=Kongshæj Strand\, 5871 Fr
 ørup;X-APPLE-RADIUS=72;X-TITLE=Kongshøj Strand:55.2204;10.80961
END:VEVENT
BEGIN:VEVENT
UID:69e63daa51472
SUMMARY:Vinterbadning ved Kongshøj Strand
DESCRIPTION:Vinterbadning ved Kongshøj Strand
LOCATION:Kongshæj Strand\, 5871 Frørup
DTSTART:20230311T080000Z
DTSTAMP:20230113T100801Z
ORGANIZER:MAILTO:Tårupportalen
GEO:55.2204;10.80961
X-APPLE-STRUCTURED-LOCATION;VALUE=URI;X-ADDRESS=Kongshæj Strand\, 5871 Fr
 ørup;X-APPLE-RADIUS=72;X-TITLE=Kongshøj Strand:55.2204;10.80961
END:VEVENT
BEGIN:VEVENT
UID:69e63daa51485
SUMMARY:Vinterbadning ved Kongshøj Strand
DESCRIPTION:Vinterbadning ved Kongshøj Strand
LOCATION:Kongshæj Strand\, 5871 Frørup
DTSTART:20230318T080000Z
DTSTAMP:20230113T100801Z
ORGANIZER:MAILTO:Tårupportalen
GEO:55.2204;10.80961
X-APPLE-STRUCTURED-LOCATION;VALUE=URI;X-ADDRESS=Kongshæj Strand\, 5871 Fr
 ørup;X-APPLE-RADIUS=72;X-TITLE=Kongshøj Strand:55.2204;10.80961
END:VEVENT
BEGIN:VEVENT
UID:69e63daa51499
SUMMARY:Vinterbadning ved Kongshøj Strand
DESCRIPTION:Vinterbadning ved Kongshøj Strand
LOCATION:Kongshæj Strand\, 5871 Frørup
DTSTART:20230325T080000Z
DTSTAMP:20230113T100801Z
ORGANIZER:MAILTO:Tårupportalen
GEO:55.2204;10.80961
X-APPLE-STRUCTURED-LOCATION;VALUE=URI;X-ADDRESS=Kongshæj Strand\, 5871 Fr
 ørup;X-APPLE-RADIUS=72;X-TITLE=Kongshøj Strand:55.2204;10.80961
END:VEVENT
BEGIN:VEVENT
UID:69e63daa514ac
SUMMARY:Vinterbadning ved Kongshøj Strand
DESCRIPTION:Vinterbadning ved Kongshøj Strand
LOCATION:Kongshæj Strand\, 5871 Frørup
DTSTART:20230401T070000Z
DTSTAMP:20230113T100801Z
ORGANIZER:MAILTO:Tårupportalen
GEO:55.2204;10.80961
X-APPLE-STRUCTURED-LOCATION;VALUE=URI;X-ADDRESS=Kongshæj Strand\, 5871 Fr
 ørup;X-APPLE-RADIUS=72;X-TITLE=Kongshøj Strand:55.2204;10.80961
END:VEVENT
BEGIN:VEVENT
UID:69e63daa514bf
SUMMARY:Vinterbadning ved Kongshøj Strand
DESCRIPTION:Vinterbadning ved Kongshøj Strand
LOCATION:Kongshæj Strand\, 5871 Frørup
DTSTART:20230408T070000Z
DTSTAMP:20230113T100801Z
ORGANIZER:MAILTO:Tårupportalen
GEO:55.2204;10.80961
X-APPLE-STRUCTURED-LOCATION;VALUE=URI;X-ADDRESS=Kongshæj Strand\, 5871 Fr
 ørup;X-APPLE-RADIUS=72;X-TITLE=Kongshøj Strand:55.2204;10.80961
END:VEVENT
BEGIN:VEVENT
UID:69e63daa514d3
SUMMARY:Vinterbadning ved Kongshøj Strand
DESCRIPTION:Vinterbadning ved Kongshøj Strand
LOCATION:Kongshæj Strand\, 5871 Frørup
DTSTART:20230415T070000Z
DTSTAMP:20230113T100801Z
ORGANIZER:MAILTO:Tårupportalen
GEO:55.2204;10.80961
X-APPLE-STRUCTURED-LOCATION;VALUE=URI;X-ADDRESS=Kongshæj Strand\, 5871 Fr
 ørup;X-APPLE-RADIUS=72;X-TITLE=Kongshøj Strand:55.2204;10.80961
END:VEVENT
BEGIN:VEVENT
UID:69e63daa514e7
SUMMARY:Vinterbadning ved Kongshøj Strand
DESCRIPTION:Vinterbadning ved Kongshøj Strand
LOCATION:Kongshæj Strand\, 5871 Frørup
DTSTART:20230422T070000Z
DTSTAMP:20230113T100801Z
ORGANIZER:MAILTO:Tårupportalen
GEO:55.2204;10.80961
X-APPLE-STRUCTURED-LOCATION;VALUE=URI;X-ADDRESS=Kongshæj Strand\, 5871 Fr
 ørup;X-APPLE-RADIUS=72;X-TITLE=Kongshøj Strand:55.2204;10.80961
END:VEVENT
BEGIN:VEVENT
UID:69e63daa514fb
SUMMARY:Vinterbadning ved Kongshøj Strand
DESCRIPTION:Vinterbadning ved Kongshøj Strand
LOCATION:Kongshæj Strand\, 5871 Frørup
DTSTART:20230429T070000Z
DTSTAMP:20230113T100801Z
ORGANIZER:MAILTO:Tårupportalen
GEO:55.2204;10.80961
X-APPLE-STRUCTURED-LOCATION;VALUE=URI;X-ADDRESS=Kongshæj Strand\, 5871 Fr
 ørup;X-APPLE-RADIUS=72;X-TITLE=Kongshøj Strand:55.2204;10.80961
END:VEVENT
BEGIN:VEVENT
UID:69e63daa5150e
SUMMARY:Vinterbadning ved Kongshøj Strand
DESCRIPTION:Vinterbadning ved Kongshøj Strand
LOCATION:Kongshæj Strand\, 5871 Frørup
DTSTART:20231007T070000Z
DTSTAMP:20230113T101026Z
ORGANIZER:MAILTO:Tårupportalen
GEO:55.2204;10.80961
X-APPLE-STRUCTURED-LOCATION;VALUE=URI;X-ADDRESS=Kongshæj Strand\, 5871 Fr
 ørup;X-APPLE-RADIUS=72;X-TITLE=Kongshøj Strand:55.2204;10.80961
END:VEVENT
BEGIN:VEVENT
UID:69e63daa51524
SUMMARY:Vinterbadning ved Kongshøj Strand
DESCRIPTION:Vinterbadning ved Kongshøj Strand
LOCATION:Kongshæj Strand\, 5871 Frørup
DTSTART:20231014T070000Z
DTSTAMP:20230113T101026Z
ORGANIZER:MAILTO:Tårupportalen
GEO:55.2204;10.80961
X-APPLE-STRUCTURED-LOCATION;VALUE=URI;X-ADDRESS=Kongshæj Strand\, 5871 Fr
 ørup;X-APPLE-RADIUS=72;X-TITLE=Kongshøj Strand:55.2204;10.80961
END:VEVENT
BEGIN:VEVENT
UID:69e63daa51539
SUMMARY:Vinterbadning ved Kongshøj Strand
DESCRIPTION:Vinterbadning ved Kongshøj Strand
LOCATION:Kongshæj Strand\, 5871 Frørup
DTSTART:20231021T070000Z
DTSTAMP:20230113T101026Z
ORGANIZER:MAILTO:Tårupportalen
GEO:55.2204;10.80961
X-APPLE-STRUCTURED-LOCATION;VALUE=URI;X-ADDRESS=Kongshæj Strand\, 5871 Fr
 ørup;X-APPLE-RADIUS=72;X-TITLE=Kongshøj Strand:55.2204;10.80961
END:VEVENT
BEGIN:VEVENT
UID:69e63daa5154b
SUMMARY:Vinterbadning ved Kongshøj Strand
DESCRIPTION:Vinterbadning ved Kongshøj Strand
LOCATION:Kongshæj Strand\, 5871 Frørup
DTSTART:20231028T070000Z
DTSTAMP:20230113T101026Z
ORGANIZER:MAILTO:Tårupportalen
GEO:55.2204;10.80961
X-APPLE-STRUCTURED-LOCATION;VALUE=URI;X-ADDRESS=Kongshæj Strand\, 5871 Fr
 ørup;X-APPLE-RADIUS=72;X-TITLE=Kongshøj Strand:55.2204;10.80961
END:VEVENT
BEGIN:VEVENT
UID:69e63daa5155f
SUMMARY:Vinterbadning ved Kongshøj Strand
DESCRIPTION:Vinterbadning ved Kongshøj Strand
LOCATION:Kongshæj Strand\, 5871 Frørup
DTSTART:20231104T080000Z
DTSTAMP:20230113T101026Z
ORGANIZER:MAILTO:Tårupportalen
GEO:55.2204;10.80961
X-APPLE-STRUCTURED-LOCATION;VALUE=URI;X-ADDRESS=Kongshæj Strand\, 5871 Fr
 ørup;X-APPLE-RADIUS=72;X-TITLE=Kongshøj Strand:55.2204;10.80961
END:VEVENT
BEGIN:VEVENT
UID:69e63daa51572
SUMMARY:Vinterbadning ved Kongshøj Strand
DESCRIPTION:Vinterbadning ved Kongshøj Strand
LOCATION:Kongshæj Strand\, 5871 Frørup
DTSTART:20231111T080000Z
DTSTAMP:20230113T101026Z
ORGANIZER:MAILTO:Tårupportalen
GEO:55.2204;10.80961
X-APPLE-STRUCTURED-LOCATION;VALUE=URI;X-ADDRESS=Kongshæj Strand\, 5871 Fr
 ørup;X-APPLE-RADIUS=72;X-TITLE=Kongshøj Strand:55.2204;10.80961
END:VEVENT
BEGIN:VEVENT
UID:69e63daa5158a
SUMMARY:Vinterbadning ved Kongshøj Strand
DESCRIPTION:Vinterbadning ved Kongshøj Strand
LOCATION:Kongshæj Strand\, 5871 Frørup
DTSTART:20231118T080000Z
DTSTAMP:20230113T101026Z
ORGANIZER:MAILTO:Tårupportalen
GEO:55.2204;10.80961
X-APPLE-STRUCTURED-LOCATION;VALUE=URI;X-ADDRESS=Kongshæj Strand\, 5871 Fr
 ørup;X-APPLE-RADIUS=72;X-TITLE=Kongshøj Strand:55.2204;10.80961
END:VEVENT
BEGIN:VEVENT
UID:69e63daa515a3
SUMMARY:Vinterbadning ved Kongshøj Strand
DESCRIPTION:Vinterbadning ved Kongshøj Strand
LOCATION:Kongshæj Strand\, 5871 Frørup
DTSTART:20231125T080000Z
DTSTAMP:20230113T101026Z
ORGANIZER:MAILTO:Tårupportalen
GEO:55.2204;10.80961
X-APPLE-STRUCTURED-LOCATION;VALUE=URI;X-ADDRESS=Kongshæj Strand\, 5871 Fr
 ørup;X-APPLE-RADIUS=72;X-TITLE=Kongshøj Strand:55.2204;10.80961
END:VEVENT
BEGIN:VEVENT
UID:69e63daa515ca
SUMMARY:Vinterbadning ved Kongshøj Strand
DESCRIPTION:Vinterbadning ved Kongshøj Strand
LOCATION:Kongshæj Strand\, 5871 Frørup
DTSTART:20231202T080000Z
DTSTAMP:20230113T101026Z
ORGANIZER:MAILTO:Tårupportalen
GEO:55.2204;10.80961
X-APPLE-STRUCTURED-LOCATION;VALUE=URI;X-ADDRESS=Kongshæj Strand\, 5871 Fr
 ørup;X-APPLE-RADIUS=72;X-TITLE=Kongshøj Strand:55.2204;10.80961
END:VEVENT
BEGIN:VEVENT
UID:69e63daa515dd
SUMMARY:Vinterbadning ved Kongshøj Strand
DESCRIPTION:Vinterbadning ved Kongshøj Strand
LOCATION:Kongshæj Strand\, 5871 Frørup
DTSTART:20231209T080000Z
DTSTAMP:20230113T101026Z
ORGANIZER:MAILTO:Tårupportalen
GEO:55.2204;10.80961
X-APPLE-STRUCTURED-LOCATION;VALUE=URI;X-ADDRESS=Kongshæj Strand\, 5871 Fr
 ørup;X-APPLE-RADIUS=72;X-TITLE=Kongshøj Strand:55.2204;10.80961
END:VEVENT
BEGIN:VEVENT
UID:69e63daa515f0
SUMMARY:Vinterbadning ved Kongshøj Strand
DESCRIPTION:Vinterbadning ved Kongshøj Strand
LOCATION:Kongshæj Strand\, 5871 Frørup
DTSTART:20231216T080000Z
DTSTAMP:20230113T101026Z
ORGANIZER:MAILTO:Tårupportalen
GEO:55.2204;10.80961
X-APPLE-STRUCTURED-LOCATION;VALUE=URI;X-ADDRESS=Kongshæj Strand\, 5871 Fr
 ørup;X-APPLE-RADIUS=72;X-TITLE=Kongshøj Strand:55.2204;10.80961
END:VEVENT
BEGIN:VEVENT
UID:69e63daa51603
SUMMARY:Vinterbadning ved Kongshøj Strand
DESCRIPTION:Vinterbadning ved Kongshøj Strand
LOCATION:Kongshæj Strand\, 5871 Frørup
DTSTART:20231223T080000Z
DTSTAMP:20230113T101026Z
ORGANIZER:MAILTO:Tårupportalen
GEO:55.2204;10.80961
X-APPLE-STRUCTURED-LOCATION;VALUE=URI;X-ADDRESS=Kongshæj Strand\, 5871 Fr
 ørup;X-APPLE-RADIUS=72;X-TITLE=Kongshøj Strand:55.2204;10.80961
END:VEVENT
BEGIN:VEVENT
UID:69e63daa5161a
SUMMARY:Vinterbadning ved Kongshøj Strand
DESCRIPTION:Vinterbadning ved Kongshøj Strand
LOCATION:Kongshæj Strand\, 5871 Frørup
DTSTART:20231231T083000Z
DTSTAMP:20230113T101026Z
ORGANIZER:MAILTO:Tårupportalen
GEO:55.2204;10.80961
X-APPLE-STRUCTURED-LOCATION;VALUE=URI;X-ADDRESS=Kongshæj Strand\, 5871 Fr
 ørup;X-APPLE-RADIUS=72;X-TITLE=Kongshøj Strand:55.2204;10.80961
END:VEVENT
BEGIN:VEVENT
UID:69e63daa5162d
SUMMARY:Kongshøj vinterbadelaug
DESCRIPTION:Kongshøj vinterbadelaug
LOCATION:Kongshæj Strand\, 5871 Frørup
DTSTART:20240106T080000Z
DTSTAMP:20231228T123941Z
ORGANIZER:MAILTO:Tårupportalen
GEO:55.2204;10.80961
X-APPLE-STRUCTURED-LOCATION;VALUE=URI;X-ADDRESS=Kongshæj Strand\, 5871 Fr
 ørup;X-APPLE-RADIUS=72;X-TITLE=Kongshøj Strand:55.2204;10.80961
END:VEVENT
BEGIN:VEVENT
UID:69e63daa51646
SUMMARY:Kongshøj vinterbadelaug
DESCRIPTION:Kongshøj vinterbadelaug
LOCATION:Kongshæj Strand\, 5871 Frørup
DTSTART:20240113T080000Z
DTSTAMP:20231228T123941Z
ORGANIZER:MAILTO:Tårupportalen
GEO:55.2204;10.80961
X-APPLE-STRUCTURED-LOCATION;VALUE=URI;X-ADDRESS=Kongshæj Strand\, 5871 Fr
 ørup;X-APPLE-RADIUS=72;X-TITLE=Kongshøj Strand:55.2204;10.80961
END:VEVENT
BEGIN:VEVENT
UID:69e63daa51659
SUMMARY:Kongshøj vinterbadelaug
DESCRIPTION:Kongshøj vinterbadelaug
LOCATION:Kongshæj Strand\, 5871 Frørup
DTSTART:20240120T080000Z
DTSTAMP:20231228T123941Z
ORGANIZER:MAILTO:Tårupportalen
GEO:55.2204;10.80961
X-APPLE-STRUCTURED-LOCATION;VALUE=URI;X-ADDRESS=Kongshæj Strand\, 5871 Fr
 ørup;X-APPLE-RADIUS=72;X-TITLE=Kongshøj Strand:55.2204;10.80961
END:VEVENT
BEGIN:VEVENT
UID:69e63daa5166c
SUMMARY:Kongshøj vinterbadelaug
DESCRIPTION:Kongshøj vinterbadelaug
LOCATION:Kongshæj Strand\, 5871 Frørup
DTSTART:20240127T080000Z
DTSTAMP:20231228T123941Z
ORGANIZER:MAILTO:Tårupportalen
GEO:55.2204;10.80961
X-APPLE-STRUCTURED-LOCATION;VALUE=URI;X-ADDRESS=Kongshæj Strand\, 5871 Fr
 ørup;X-APPLE-RADIUS=72;X-TITLE=Kongshøj Strand:55.2204;10.80961
END:VEVENT
BEGIN:VEVENT
UID:69e63daa51683
SUMMARY:Kongshøj vinterbadelaug
DESCRIPTION:Kongshøj vinterbadelaug
LOCATION:Kongshæj Strand\, 5871 Frørup
DTSTART:20240203T080000Z
DTSTAMP:20231228T123941Z
ORGANIZER:MAILTO:Tårupportalen
GEO:55.2204;10.80961
X-APPLE-STRUCTURED-LOCATION;VALUE=URI;X-ADDRESS=Kongshæj Strand\, 5871 Fr
 ørup;X-APPLE-RADIUS=72;X-TITLE=Kongshøj Strand:55.2204;10.80961
END:VEVENT
BEGIN:VEVENT
UID:69e63daa51696
SUMMARY:Kongshøj vinterbadelaug
DESCRIPTION:Kongshøj vinterbadelaug
LOCATION:Kongshæj Strand\, 5871 Frørup
DTSTART:20240210T080000Z
DTSTAMP:20231228T123941Z
ORGANIZER:MAILTO:Tårupportalen
GEO:55.2204;10.80961
X-APPLE-STRUCTURED-LOCATION;VALUE=URI;X-ADDRESS=Kongshæj Strand\, 5871 Fr
 ørup;X-APPLE-RADIUS=72;X-TITLE=Kongshøj Strand:55.2204;10.80961
END:VEVENT
BEGIN:VEVENT
UID:69e63daa516aa
SUMMARY:Kongshøj vinterbadelaug
DESCRIPTION:Kongshøj vinterbadelaug
LOCATION:Kongshæj Strand\, 5871 Frørup
DTSTART:20240217T080000Z
DTSTAMP:20231228T123941Z
ORGANIZER:MAILTO:Tårupportalen
GEO:55.2204;10.80961
X-APPLE-STRUCTURED-LOCATION;VALUE=URI;X-ADDRESS=Kongshæj Strand\, 5871 Fr
 ørup;X-APPLE-RADIUS=72;X-TITLE=Kongshøj Strand:55.2204;10.80961
END:VEVENT
BEGIN:VEVENT
UID:69e63daa516bd
SUMMARY:Kongshøj vinterbadelaug
DESCRIPTION:Kongshøj vinterbadelaug
LOCATION:Kongshæj Strand\, 5871 Frørup
DTSTART:20240224T080000Z
DTSTAMP:20231228T123941Z
ORGANIZER:MAILTO:Tårupportalen
GEO:55.2204;10.80961
X-APPLE-STRUCTURED-LOCATION;VALUE=URI;X-ADDRESS=Kongshæj Strand\, 5871 Fr
 ørup;X-APPLE-RADIUS=72;X-TITLE=Kongshøj Strand:55.2204;10.80961
END:VEVENT
BEGIN:VEVENT
UID:69e63daa516cf
SUMMARY:Kongshøj vinterbadelaug
DESCRIPTION:Kongshøj vinterbadelaug
LOCATION:Kongshæj Strand\, 5871 Frørup
DTSTART:20240302T080000Z
DTSTAMP:20231228T123941Z
ORGANIZER:MAILTO:Tårupportalen
GEO:55.2204;10.80961
X-APPLE-STRUCTURED-LOCATION;VALUE=URI;X-ADDRESS=Kongshæj Strand\, 5871 Fr
 ørup;X-APPLE-RADIUS=72;X-TITLE=Kongshøj Strand:55.2204;10.80961
END:VEVENT
BEGIN:VEVENT
UID:69e63daa516e2
SUMMARY:Kongshøj vinterbadelaug
DESCRIPTION:Kongshøj vinterbadelaug
LOCATION:Kongshæj Strand\, 5871 Frørup
DTSTART:20240309T080000Z
DTSTAMP:20231228T123941Z
ORGANIZER:MAILTO:Tårupportalen
GEO:55.2204;10.80961
X-APPLE-STRUCTURED-LOCATION;VALUE=URI;X-ADDRESS=Kongshæj Strand\, 5871 Fr
 ørup;X-APPLE-RADIUS=72;X-TITLE=Kongshøj Strand:55.2204;10.80961
END:VEVENT
BEGIN:VEVENT
UID:69e63daa516fb
SUMMARY:Kongshøj vinterbadelaug
DESCRIPTION:Kongshøj vinterbadelaug
LOCATION:Kongshæj Strand\, 5871 Frørup
DTSTART:20240316T080000Z
DTSTAMP:20231228T123941Z
ORGANIZER:MAILTO:Tårupportalen
GEO:55.2204;10.80961
X-APPLE-STRUCTURED-LOCATION;VALUE=URI;X-ADDRESS=Kongshæj Strand\, 5871 Fr
 ørup;X-APPLE-RADIUS=72;X-TITLE=Kongshøj Strand:55.2204;10.80961
END:VEVENT
BEGIN:VEVENT
UID:69e63daa51711
SUMMARY:Kongshøj vinterbadelaug
DESCRIPTION:Kongshøj vinterbadelaug
LOCATION:Kongshæj Strand\, 5871 Frørup
DTSTART:20240323T080000Z
DTSTAMP:20231228T123941Z
ORGANIZER:MAILTO:Tårupportalen
GEO:55.2204;10.80961
X-APPLE-STRUCTURED-LOCATION;VALUE=URI;X-ADDRESS=Kongshæj Strand\, 5871 Fr
 ørup;X-APPLE-RADIUS=72;X-TITLE=Kongshøj Strand:55.2204;10.80961
END:VEVENT
BEGIN:VEVENT
UID:69e63daa51724
SUMMARY:Kongshøj vinterbadelaug
DESCRIPTION:Kongshøj vinterbadelaug
LOCATION:Kongshæj Strand\, 5871 Frørup
DTSTART:20240330T080000Z
DTSTAMP:20231228T123941Z
ORGANIZER:MAILTO:Tårupportalen
GEO:55.2204;10.80961
X-APPLE-STRUCTURED-LOCATION;VALUE=URI;X-ADDRESS=Kongshæj Strand\, 5871 Fr
 ørup;X-APPLE-RADIUS=72;X-TITLE=Kongshøj Strand:55.2204;10.80961
END:VEVENT
BEGIN:VEVENT
UID:69e63daa51736
SUMMARY:Kongshøj vinterbadelaug
DESCRIPTION:Kongshøj vinterbadelaug
LOCATION:Kongshæj Strand\, 5871 Frørup
DTSTART:20240406T070000Z
DTSTAMP:20231228T123941Z
ORGANIZER:MAILTO:Tårupportalen
GEO:55.2204;10.80961
X-APPLE-STRUCTURED-LOCATION;VALUE=URI;X-ADDRESS=Kongshæj Strand\, 5871 Fr
 ørup;X-APPLE-RADIUS=72;X-TITLE=Kongshøj Strand:55.2204;10.80961
END:VEVENT
BEGIN:VEVENT
UID:69e63daa51749
SUMMARY:Kongshøj vinterbadelaug
DESCRIPTION:Kongshøj vinterbadelaug
LOCATION:Kongshæj Strand\, 5871 Frørup
DTSTART:20240413T070000Z
DTSTAMP:20231228T123941Z
ORGANIZER:MAILTO:Tårupportalen
GEO:55.2204;10.80961
X-APPLE-STRUCTURED-LOCATION;VALUE=URI;X-ADDRESS=Kongshæj Strand\, 5871 Fr
 ørup;X-APPLE-RADIUS=72;X-TITLE=Kongshøj Strand:55.2204;10.80961
END:VEVENT
BEGIN:VEVENT
UID:69e63daa5175f
SUMMARY:Kongshøj vinterbadelaug
DESCRIPTION:Kongshøj vinterbadelaug
LOCATION:Kongshæj Strand\, 5871 Frørup
DTSTART:20240420T070000Z
DTSTAMP:20231228T123941Z
ORGANIZER:MAILTO:Tårupportalen
GEO:55.2204;10.80961
X-APPLE-STRUCTURED-LOCATION;VALUE=URI;X-ADDRESS=Kongshæj Strand\, 5871 Fr
 ørup;X-APPLE-RADIUS=72;X-TITLE=Kongshøj Strand:55.2204;10.80961
END:VEVENT
BEGIN:VEVENT
UID:69e63daa51772
SUMMARY:Kongshøj vinterbadelaug
DESCRIPTION:Kongshøj vinterbadelaug
LOCATION:Kongshæj Strand\, 5871 Frørup
DTSTART:20240427T070000Z
DTSTAMP:20231228T123941Z
ORGANIZER:MAILTO:Tårupportalen
GEO:55.2204;10.80961
X-APPLE-STRUCTURED-LOCATION;VALUE=URI;X-ADDRESS=Kongshæj Strand\, 5871 Fr
 ørup;X-APPLE-RADIUS=72;X-TITLE=Kongshøj Strand:55.2204;10.80961
END:VEVENT
BEGIN:VEVENT
UID:69e63daa51785
SUMMARY:Kongshøj vinterbadelaug
DESCRIPTION:Kongshøj vinterbadelaug
LOCATION:Kongshæj Strand\, 5871 Frørup
DTSTART:20241005T070000Z
DTSTAMP:20231228T124225Z
ORGANIZER:MAILTO:Tårupportalen
GEO:55.2204;10.80961
X-APPLE-STRUCTURED-LOCATION;VALUE=URI;X-ADDRESS=Kongshæj Strand\, 5871 Fr
 ørup;X-APPLE-RADIUS=72;X-TITLE=Kongshøj Strand:55.2204;10.80961
END:VEVENT
BEGIN:VEVENT
UID:69e63daa5179a
SUMMARY:Kongshøj vinterbadelaug
DESCRIPTION:Kongshøj vinterbadelaug
LOCATION:Kongshæj Strand\, 5871 Frørup
DTSTART:20241012T070000Z
DTSTAMP:20231228T124225Z
ORGANIZER:MAILTO:Tårupportalen
GEO:55.2204;10.80961
X-APPLE-STRUCTURED-LOCATION;VALUE=URI;X-ADDRESS=Kongshæj Strand\, 5871 Fr
 ørup;X-APPLE-RADIUS=72;X-TITLE=Kongshøj Strand:55.2204;10.80961
END:VEVENT
BEGIN:VEVENT
UID:69e63daa517ac
SUMMARY:Kongshøj vinterbadelaug
DESCRIPTION:Kongshøj vinterbadelaug
LOCATION:Kongshæj Strand\, 5871 Frørup
DTSTART:20241019T070000Z
DTSTAMP:20231228T124225Z
ORGANIZER:MAILTO:Tårupportalen
GEO:55.2204;10.80961
X-APPLE-STRUCTURED-LOCATION;VALUE=URI;X-ADDRESS=Kongshæj Strand\, 5871 Fr
 ørup;X-APPLE-RADIUS=72;X-TITLE=Kongshøj Strand:55.2204;10.80961
END:VEVENT
BEGIN:VEVENT
UID:69e63daa517c2
SUMMARY:Kongshøj vinterbadelaug
DESCRIPTION:Kongshøj vinterbadelaug
LOCATION:Kongshæj Strand\, 5871 Frørup
DTSTART:20241026T070000Z
DTSTAMP:20231228T124225Z
ORGANIZER:MAILTO:Tårupportalen
GEO:55.2204;10.80961
X-APPLE-STRUCTURED-LOCATION;VALUE=URI;X-ADDRESS=Kongshæj Strand\, 5871 Fr
 ørup;X-APPLE-RADIUS=72;X-TITLE=Kongshøj Strand:55.2204;10.80961
END:VEVENT
BEGIN:VEVENT
UID:69e63daa517d4
SUMMARY:Kongshøj vinterbadelaug
DESCRIPTION:Kongshøj vinterbadelaug
LOCATION:Kongshæj Strand\, 5871 Frørup
DTSTART:20241102T080000Z
DTSTAMP:20231228T124225Z
ORGANIZER:MAILTO:Tårupportalen
GEO:55.2204;10.80961
X-APPLE-STRUCTURED-LOCATION;VALUE=URI;X-ADDRESS=Kongshæj Strand\, 5871 Fr
 ørup;X-APPLE-RADIUS=72;X-TITLE=Kongshøj Strand:55.2204;10.80961
END:VEVENT
BEGIN:VEVENT
UID:69e63daa517e7
SUMMARY:Kongshøj vinterbadelaug
DESCRIPTION:Kongshøj vinterbadelaug
LOCATION:Kongshæj Strand\, 5871 Frørup
DTSTART:20241109T080000Z
DTSTAMP:20231228T124225Z
ORGANIZER:MAILTO:Tårupportalen
GEO:55.2204;10.80961
X-APPLE-STRUCTURED-LOCATION;VALUE=URI;X-ADDRESS=Kongshæj Strand\, 5871 Fr
 ørup;X-APPLE-RADIUS=72;X-TITLE=Kongshøj Strand:55.2204;10.80961
END:VEVENT
BEGIN:VEVENT
UID:69e63daa517f9
SUMMARY:Kongshøj vinterbadelaug
DESCRIPTION:Kongshøj vinterbadelaug
LOCATION:Kongshæj Strand\, 5871 Frørup
DTSTART:20241116T080000Z
DTSTAMP:20231228T124225Z
ORGANIZER:MAILTO:Tårupportalen
GEO:55.2204;10.80961
X-APPLE-STRUCTURED-LOCATION;VALUE=URI;X-ADDRESS=Kongshæj Strand\, 5871 Fr
 ørup;X-APPLE-RADIUS=72;X-TITLE=Kongshøj Strand:55.2204;10.80961
END:VEVENT
BEGIN:VEVENT
UID:69e63daa5180c
SUMMARY:Kongshøj vinterbadelaug
DESCRIPTION:Kongshøj vinterbadelaug
LOCATION:Kongshæj Strand\, 5871 Frørup
DTSTART:20241123T080000Z
DTSTAMP:20231228T124225Z
ORGANIZER:MAILTO:Tårupportalen
GEO:55.2204;10.80961
X-APPLE-STRUCTURED-LOCATION;VALUE=URI;X-ADDRESS=Kongshæj Strand\, 5871 Fr
 ørup;X-APPLE-RADIUS=72;X-TITLE=Kongshøj Strand:55.2204;10.80961
END:VEVENT
BEGIN:VEVENT
UID:69e63daa51827
SUMMARY:Kongshøj vinterbadelaug
DESCRIPTION:Kongshøj vinterbadelaug
LOCATION:Kongshæj Strand\, 5871 Frørup
DTSTART:20241130T080000Z
DTSTAMP:20231228T124225Z
ORGANIZER:MAILTO:Tårupportalen
GEO:55.2204;10.80961
X-APPLE-STRUCTURED-LOCATION;VALUE=URI;X-ADDRESS=Kongshæj Strand\, 5871 Fr
 ørup;X-APPLE-RADIUS=72;X-TITLE=Kongshøj Strand:55.2204;10.80961
END:VEVENT
BEGIN:VEVENT
UID:69e63daa5183d
SUMMARY:Kongshøj vinterbadelaug
DESCRIPTION:Kongshøj vinterbadelaug
LOCATION:Kongshæj Strand\, 5871 Frørup
DTSTART:20241207T080000Z
DTSTAMP:20231228T124225Z
ORGANIZER:MAILTO:Tårupportalen
GEO:55.2204;10.80961
X-APPLE-STRUCTURED-LOCATION;VALUE=URI;X-ADDRESS=Kongshæj Strand\, 5871 Fr
 ørup;X-APPLE-RADIUS=72;X-TITLE=Kongshøj Strand:55.2204;10.80961
END:VEVENT
BEGIN:VEVENT
UID:69e63daa51856
SUMMARY:Kongshøj vinterbadelaug
DESCRIPTION:Kongshøj vinterbadelaug
LOCATION:Kongshæj Strand\, 5871 Frørup
DTSTART:20241214T080000Z
DTSTAMP:20231228T124225Z
ORGANIZER:MAILTO:Tårupportalen
GEO:55.2204;10.80961
X-APPLE-STRUCTURED-LOCATION;VALUE=URI;X-ADDRESS=Kongshæj Strand\, 5871 Fr
 ørup;X-APPLE-RADIUS=72;X-TITLE=Kongshøj Strand:55.2204;10.80961
END:VEVENT
BEGIN:VEVENT
UID:69e63daa51869
SUMMARY:Kongshøj vinterbadelaug
DESCRIPTION:Kongshøj vinterbadelaug
LOCATION:Kongshæj Strand\, 5871 Frørup
DTSTART:20241221T080000Z
DTSTAMP:20231228T124225Z
ORGANIZER:MAILTO:Tårupportalen
GEO:55.2204;10.80961
X-APPLE-STRUCTURED-LOCATION;VALUE=URI;X-ADDRESS=Kongshæj Strand\, 5871 Fr
 ørup;X-APPLE-RADIUS=72;X-TITLE=Kongshøj Strand:55.2204;10.80961
END:VEVENT
BEGIN:VEVENT
UID:69e63daa5187b
SUMMARY:Kongshøj vinterbadelaug
DESCRIPTION:Kongshøj vinterbadelaug
LOCATION:Kongshæj Strand\, 5871 Frørup
DTSTART:20241228T080000Z
DTSTAMP:20231228T124225Z
ORGANIZER:MAILTO:Tårupportalen
GEO:55.2204;10.80961
X-APPLE-STRUCTURED-LOCATION;VALUE=URI;X-ADDRESS=Kongshæj Strand\, 5871 Fr
 ørup;X-APPLE-RADIUS=72;X-TITLE=Kongshøj Strand:55.2204;10.80961
END:VEVENT
END:VCALENDAR