BEGIN:VCALENDAR
VERSION:2.0
PRODID:Events Booking
BEGIN:VEVENT
UID:69e63df399314
SUMMARY:Generalforsamling i Tårup Vandværk
DESCRIPTION:Tårup Vandværk
 indkalder til årlig generalforsamling freda
 g den 20. august kl 17:00 på vandværket.
 Dagsorden ifølge vedtægtern
 e. Forslag til behandling på generalforsamlingen skal afgives skriftligt 
 til bestyrelsen senest 7 dage før generalforsamlingen.
 Bestyrelsen vil 
 i forbindelse med generalforsamlingen vise det nye vandbehandlingsanlæg. 
 - Og er efterfølgende vært ved en grillpølse.
 &nbsp\;
 Bestyrelsen.
LOCATION:Tårup Byvej 1\, 5871 Frørup
DTSTART:20210820T150000Z
DTSTAMP:20260420T165339Z
ORGANIZER:MAILTO:Tårupportalen
GEO:55.237711;10.776061
X-APPLE-STRUCTURED-LOCATION;VALUE=URI;X-ADDRESS=Tårup Byvej 1\, 5871 Frør
 up;X-APPLE-RADIUS=72;X-TITLE=Tårup Vandværk:55.237711;10.776061
END:VEVENT
BEGIN:VEVENT
UID:69e63df3993bf
SUMMARY:Generalforsamling Tårup Vandværk
DESCRIPTION:Generalforsamling i Tårup Vandværk
LOCATION:Tårup Byvej 26\, Tårup\, 5871 Frørup
DTSTART:20220328T170000Z
DTSTAMP:20220311T104028Z
ORGANIZER:MAILTO:Tårupportalen
GEO:55.234602;10.773174
X-APPLE-STRUCTURED-LOCATION;VALUE=URI;X-ADDRESS=Tårup Byvej 26\, Tårup\, 
 5871 Frørup;X-APPLE-RADIUS=72;X-TITLE=Tårup Forsamlingshus:55.234602;10.
 773174
END:VEVENT
BEGIN:VEVENT
UID:69e63df3993e1
SUMMARY:Generalforsamling i Tårup Vandværk
DESCRIPTION:Tårup Vandværk
 Indkalder til årlig generalforsamling tirsd
 ag den 21. marts 2023 kl 19:00 i Tårup Forsamlingshus.Dagsorden ifølge v
 edtægterne.Forslag til behandling på generalforsamlingen skal afgives sk
 riftligt til bestyrelsen senest 7 dage før generalforsamlingen.
 Bestyre
 lsen
LOCATION:Tårup Byvej 26\, Tårup\, 5871 Frørup
DTSTART:20230321T180000Z
DTSTAMP:20230218T171356Z
ORGANIZER:MAILTO:Tårupportalen
GEO:55.234602;10.773174
X-APPLE-STRUCTURED-LOCATION;VALUE=URI;X-ADDRESS=Tårup Byvej 26\, Tårup\, 
 5871 Frørup;X-APPLE-RADIUS=72;X-TITLE=Tårup Forsamlingshus:55.234602;10.
 773174
END:VEVENT
BEGIN:VEVENT
UID:69e63df3993fa
SUMMARY:Ekstraordinær generalforsamling i Tårup vandværk
DESCRIPTION:Tårup Vandværk
 indkalder til ekstraordinær generalforsamli
 ng&nbsp\;torsdag den 22. juni kl 19:00&nbsp\;i forsamlingshuset..
 &nbsp\
 ;
 Dagsorden:
 - Valg af dirigent.
 - Godkendelse af vedtægtsændringe
 r som foreslået på ordinær generalforsamling.
 
 
 -&nbsp\;Forslag f
 ra bestyrelsen om overdragelse af Tårup Vandværk til NFS A/S.&nbsp\;Fra 
 NFS deltager direktør Erik Hansen og driftschef Jan Sørensen som vil pr
 æsentere NFS og svare på spørgsmål.
 
 
 - Eventuelt.
 
 Bestyrel
 sen
LOCATION:Tårup Byvej 26\, Tårup\, 5871 Frørup
DTSTART:20230622T170000Z
DTSTAMP:20230607T174701Z
ORGANIZER:MAILTO:Tårupportalen
GEO:55.234602;10.773174
X-APPLE-STRUCTURED-LOCATION;VALUE=URI;X-ADDRESS=Tårup Byvej 26\, Tårup\, 
 5871 Frørup;X-APPLE-RADIUS=72;X-TITLE=Tårup Forsamlingshus:55.234602;10.
 773174
END:VEVENT
BEGIN:VEVENT
UID:69e63df399414
SUMMARY:Tårup Vandværk - ekstraordinær generalforsamling
DESCRIPTION:Tårup Vandværk
 indkalder til ekstraordinær generalforsamli
 ng tirsdag den 22. august kl 19:00 i Tårup Forsamlingshus.
LOCATION:Tårup Byvej 26\, Tårup\, 5871 Frørup
DTSTART:20230822T170000Z
DTSTAMP:20230801T175841Z
ORGANIZER:MAILTO:Tårupportalen
GEO:55.234602;10.773174
X-APPLE-STRUCTURED-LOCATION;VALUE=URI;X-ADDRESS=Tårup Byvej 26\, Tårup\, 
 5871 Frørup;X-APPLE-RADIUS=72;X-TITLE=Tårup Forsamlingshus:55.234602;10.
 773174
END:VEVENT
END:VCALENDAR