BEGIN:VCALENDAR
VERSION:2.0
PRODID:Events Booking
BEGIN:VEVENT
UID:69e6300119d29
SUMMARY:Aflyst: Fællesspisning i Tårup Forsamlingshus
DESCRIPTION:Fællesspisning i Tårup Forsamlingshus
LOCATION:Tårup Byvej 26\, Tårup\, 5871 Frørup
DTSTART:20200924T160000Z
DTSTAMP:20260420T155409Z
ORGANIZER:MAILTO:Tårupportalen
GEO:55.234602;10.773174
X-APPLE-STRUCTURED-LOCATION;VALUE=URI;X-ADDRESS=Tårup Byvej 26\, Tårup\, 
 5871 Frørup;X-APPLE-RADIUS=72;X-TITLE=Tårup Forsamlingshus:55.234602;10.
 773174
END:VEVENT
BEGIN:VEVENT
UID:69e6300119de0
SUMMARY:Generalforsamling
DESCRIPTION:Generalforsamling i Tårup Forsamlingshus
LOCATION:Tårup Byvej 26\, Tårup\, 5871 Frørup
DTSTART:20210506T173000Z
DTSTAMP:20260420T155409Z
ORGANIZER:MAILTO:Tårupportalen
GEO:55.234602;10.773174
X-APPLE-STRUCTURED-LOCATION;VALUE=URI;X-ADDRESS=Tårup Byvej 26\, Tårup\, 
 5871 Frørup;X-APPLE-RADIUS=72;X-TITLE=Tårup Forsamlingshus:55.234602;10.
 773174
END:VEVENT
BEGIN:VEVENT
UID:69e6300119df7
SUMMARY:Udsolgt - Børnevenlig fællesspisning
DESCRIPTION:Børnevenlig fællesspisning
LOCATION:Tårup Byvej 26\, Tårup\, 5871 Frørup
DTSTART:20210908T153000Z
DTSTAMP:20260420T155409Z
ORGANIZER:MAILTO:Tårupportalen
GEO:55.234602;10.773174
X-APPLE-STRUCTURED-LOCATION;VALUE=URI;X-ADDRESS=Tårup Byvej 26\, Tårup\, 
 5871 Frørup;X-APPLE-RADIUS=72;X-TITLE=Tårup Forsamlingshus:55.234602;10.
 773174
END:VEVENT
BEGIN:VEVENT
UID:69e6300119e07
SUMMARY:Fællesspisning og bogudgivelse
DESCRIPTION:Fællesspisning og bogudgivelse
LOCATION:Tårup Byvej 26\, Tårup\, 5871 Frørup
DTSTART:20211103T170000Z
DTSTAMP:20260420T155409Z
ORGANIZER:MAILTO:Tårupportalen
GEO:55.234602;10.773174
X-APPLE-STRUCTURED-LOCATION;VALUE=URI;X-ADDRESS=Tårup Byvej 26\, Tårup\, 
 5871 Frørup;X-APPLE-RADIUS=72;X-TITLE=Tårup Forsamlingshus:55.234602;10.
 773174
END:VEVENT
BEGIN:VEVENT
UID:69e6300119e15
SUMMARY:Gæsterne kommer
DESCRIPTION:Gæsterne kommer
LOCATION:Tårup Byvej 26\, Tårup\, 5871 Frørup
DTSTART:20211203T170000Z
DTSTAMP:20260420T155409Z
ORGANIZER:MAILTO:Tårupportalen
GEO:55.234602;10.773174
X-APPLE-STRUCTURED-LOCATION;VALUE=URI;X-ADDRESS=Tårup Byvej 26\, Tårup\, 
 5871 Frørup;X-APPLE-RADIUS=72;X-TITLE=Tårup Forsamlingshus:55.234602;10.
 773174
END:VEVENT
BEGIN:VEVENT
UID:69e6300119e23
SUMMARY:Aflyst - Fællesspisning og Julebanko
DESCRIPTION:Aflyst - Kom til fællesspisning og julebanko&nbsp\; i Tårup F
 orsamlingshus16. december 2021
LOCATION:Tårup Byvej 26\, Tårup\, 5871 Frørup
DTSTART:20211216T163000Z
DTSTAMP:20211002T082442Z
ORGANIZER:MAILTO:Tårupportalen
GEO:55.234602;10.773174
X-APPLE-STRUCTURED-LOCATION;VALUE=URI;X-ADDRESS=Tårup Byvej 26\, Tårup\, 
 5871 Frørup;X-APPLE-RADIUS=72;X-TITLE=Tårup Forsamlingshus:55.234602;10.
 773174
END:VEVENT
BEGIN:VEVENT
UID:69e6300119e3b
SUMMARY:Fællesspisning og Generalforsamling
DESCRIPTION:Fællesspisning og generalforsamling i Tårup Forsamlingshus
LOCATION:Tårup Byvej 26\, Tårup\, 5871 Frørup
DTSTART:20220316T170000Z
DTSTAMP:20260420T155409Z
ORGANIZER:MAILTO:Tårupportalen
GEO:55.234602;10.773174
X-APPLE-STRUCTURED-LOCATION;VALUE=URI;X-ADDRESS=Tårup Byvej 26\, Tårup\, 
 5871 Frørup;X-APPLE-RADIUS=72;X-TITLE=Tårup Forsamlingshus:55.234602;10.
 773174
END:VEVENT
BEGIN:VEVENT
UID:69e6300119e49
SUMMARY:Børnevenlig fællesspisning
DESCRIPTION:Børnevenlig fællesspisning i Tårup Forsamlingshus
DTSTART:20220407T153000Z
DTSTAMP:20220121T174243Z
ORGANIZER:MAILTO:Tårupportalen
END:VEVENT
BEGIN:VEVENT
UID:69e6300119e5f
SUMMARY:Havefest i Tårup
DESCRIPTION:Havefest i Tårup
LOCATION:Brydevej 1\, Tårup\, 5871 Frørup
DTSTART:20220820T110000Z
DTSTAMP:20220211T083304Z
ORGANIZER:MAILTO:Tårupportalen
GEO:55.234537;10.772353
X-APPLE-STRUCTURED-LOCATION;VALUE=URI;X-ADDRESS=Brydevej 1\, Tårup\, 5871 
 Frørup;X-APPLE-RADIUS=72;X-TITLE=Under Egen i Tårup:55.234537;10.772353
END:VEVENT
BEGIN:VEVENT
UID:69e6300119e75
SUMMARY:Fællesspisning
DESCRIPTION:Fællesspisning i Tårup Forsamlingshus
LOCATION:Tårup Byvej 26\, Tårup\, 5871 Frørup
DTSTART:20220921T153000Z
DTSTAMP:20220630T154639Z
ORGANIZER:MAILTO:Tårupportalen
GEO:55.234602;10.773174
X-APPLE-STRUCTURED-LOCATION;VALUE=URI;X-ADDRESS=Tårup Byvej 26\, Tårup\, 
 5871 Frørup;X-APPLE-RADIUS=72;X-TITLE=Tårup Forsamlingshus:55.234602;10.
 773174
END:VEVENT
BEGIN:VEVENT
UID:69e6300119e8a
SUMMARY:Julefællesspisning og banko
DESCRIPTION:Julefællesspisning og banko
LOCATION:Tårup Byvej 26\, Tårup\, 5871 Frørup
DTSTART:20221208T163000Z
DTSTAMP:20220902T064444Z
ORGANIZER:MAILTO:Tårupportalen
GEO:55.234602;10.773174
X-APPLE-STRUCTURED-LOCATION;VALUE=URI;X-ADDRESS=Tårup Byvej 26\, Tårup\, 
 5871 Frørup;X-APPLE-RADIUS=72;X-TITLE=Tårup Forsamlingshus:55.234602;10.
 773174
END:VEVENT
BEGIN:VEVENT
UID:69e6300119ea0
SUMMARY:Byg-selv en burger med Julie og Marlene
DESCRIPTION:Børnevenlig fællesspisning i Tårup Forsamlingshus
LOCATION:Tårup Byvej 26\, Tårup\, 5871 Frørup
DTSTART:20230127T163000Z
DTSTAMP:20221211T193326Z
ORGANIZER:MAILTO:Tårupportalen
GEO:55.234602;10.773174
X-APPLE-STRUCTURED-LOCATION;VALUE=URI;X-ADDRESS=Tårup Byvej 26\, Tårup\, 
 5871 Frørup;X-APPLE-RADIUS=72;X-TITLE=Tårup Forsamlingshus:55.234602;10.
 773174
END:VEVENT
BEGIN:VEVENT
UID:69e6300119eb5
SUMMARY:Generalforsamling i Tårup Forsamlingshus
DESCRIPTION:Generalforsamling i Tårup Forsamlingshus
LOCATION:Tårup Byvej 26\, Tårup\, 5871 Frørup
DTSTART:20230308T173000Z
DTSTAMP:20230123T081535Z
ORGANIZER:MAILTO:Tårupportalen
GEO:55.234602;10.773174
X-APPLE-STRUCTURED-LOCATION;VALUE=URI;X-ADDRESS=Tårup Byvej 26\, Tårup\, 
 5871 Frørup;X-APPLE-RADIUS=72;X-TITLE=Tårup Forsamlingshus:55.234602;10.
 773174
END:VEVENT
BEGIN:VEVENT
UID:69e6300119ecb
SUMMARY:Aflyst - Tårup Tartelet Tur 2023
DESCRIPTION:Aflyst - Tårup Tartelet Tur 2023
 &nbsp\;
LOCATION:Tårup Byvej 26\, Tårup\, 5871 Frørup
DTSTART:20230428T153000Z
DTSTAMP:20230305T094337Z
ORGANIZER:MAILTO:Tårupportalen
GEO:55.234602;10.773174
X-APPLE-STRUCTURED-LOCATION;VALUE=URI;X-ADDRESS=Tårup Byvej 26\, Tårup\, 
 5871 Frørup;X-APPLE-RADIUS=72;X-TITLE=Tårup Forsamlingshus:55.234602;10.
 773174
END:VEVENT
BEGIN:VEVENT
UID:69e6300119ee1
SUMMARY:Borgermøde om Dark Sky Park Tårup
DESCRIPTION:Tårup Dark Sky ParkProgram borgermøde den 7. september 2023\,
  kl. 17.00 – 19.00 i Tårup Forsamlingshus
 Baggrund for denne invitati
 on er\, at vi håber at der i Tårup landsby og nære omegn\, kan blive et
 ableret et internationalt anerkendt område\, kaldet “Tårup Dark Sky Pa
 rk”\, som geografisk markerer et særligt mørkt landområde\, hvor det 
 er muligt at se natte- og stjernehimlen klart og tydeligt. Noget tilsvaren
 de findes allerede på Møn og Nyord (www.darkskyparkmoen.dk) til glæde f
 or lokale borgere og turister. Program for aftenen: 17.00 - 17.05 Velkomst
  ved Center- og landsbykoordinator Anne Lysebjerg17.05 - 17.20 Jesper W. H
 enriksen\, initiativtager og projektmager: Hvorfor Dark Sky Park i Tårup1
 7.20 - 17.35 Tobias C. Hinke\, astrofysiker\, Videnscenter for Citizen Sci
 ence\, SDU: Lysforurening\, Citizen Science og International Dark Sky Asso
 ciation17.35 - 18.05 Morten Pihl\, naturvejleder: Dark Sky Møn 18.05 - 18
 .20 Pause med øl/vand18.20 - 18.35 Frederik Ø. Petersen\, planlægger Ny
 borg Kommune: Mørkebevarende lyskilder og lysstrategi herunder hvad Kommu
 nen kan gøre planlægningsmæssigt i forhold til lys.18.35 - 18.55 Spørg
 smål og opsamling18.55 - 19.00 Tak for i aften og den videre proces ved A
 nne Lysebjerg
 Det kræver ikke tilmelding at deltage. Mød blot op. Vi s
 erverer en lille forfriskning.
 Vel mødt.Jesper W. Henriksen\, Tobias C.
  Hinse\, Anne Lysebjerg Hansen\, Frederik Ø. Petersen og Tårup Landsbyr
 åd.
LOCATION:Tårup Byvej 26\, Tårup\, 5871 Frørup
DTSTART:20230907T150000Z
DTEND:20230907T170000Z
DTSTAMP:20230726T185122Z
ORGANIZER:MAILTO:Tårupportalen
GEO:55.234602;10.773174
X-APPLE-STRUCTURED-LOCATION;VALUE=URI;X-ADDRESS=Tårup Byvej 26\, Tårup\, 
 5871 Frørup;X-APPLE-RADIUS=72;X-TITLE=Tårup Forsamlingshus:55.234602;10.
 773174
END:VEVENT
BEGIN:VEVENT
UID:69e6300119f0a
SUMMARY:Fællesspisning i Tårup Forsamlingshus med Bilde og Eriksen
DESCRIPTION:Fællesspisning i Tårup Forsamlingshus med familierne Bilde og
  Eriksen
LOCATION:Tårup Byvej 26\, Tårup\, 5871 Frørup
DTSTART:20230927T153000Z
DTSTAMP:20230828T172039Z
ORGANIZER:MAILTO:Tårupportalen
GEO:55.234602;10.773174
X-APPLE-STRUCTURED-LOCATION;VALUE=URI;X-ADDRESS=Tårup Byvej 26\, Tårup\, 
 5871 Frørup;X-APPLE-RADIUS=72;X-TITLE=Tårup Forsamlingshus:55.234602;10.
 773174
END:VEVENT
BEGIN:VEVENT
UID:69e6300119f20
SUMMARY:Julefællesspisning og banko
DESCRIPTION:Julefællesspisning og banko i Tårup forsamlingshus
 &nbsp\;
LOCATION:Tårup Byvej 26\, Tårup\, 5871 Frørup
DTSTART:20231207T163000Z
DTSTAMP:20230828T172846Z
ORGANIZER:MAILTO:Tårupportalen
GEO:55.234602;10.773174
X-APPLE-STRUCTURED-LOCATION;VALUE=URI;X-ADDRESS=Tårup Byvej 26\, Tårup\, 
 5871 Frørup;X-APPLE-RADIUS=72;X-TITLE=Tårup Forsamlingshus:55.234602;10.
 773174
END:VEVENT
BEGIN:VEVENT
UID:69e6300119f35
SUMMARY:Drop-in-kaffebord
DESCRIPTION:Drop-in-kaffebord i Tårup forsamlingshus
LOCATION:Tårup Byvej 26\, Tårup\, 5871 Frørup
DTSTART:20240114T090000Z
DTEND:20240114T110000Z
DTSTAMP:20231226T094716Z
ORGANIZER:MAILTO:Tårupportalen
GEO:55.234602;10.773174
X-APPLE-STRUCTURED-LOCATION;VALUE=URI;X-ADDRESS=Tårup Byvej 26\, Tårup\, 
 5871 Frørup;X-APPLE-RADIUS=72;X-TITLE=Tårup Forsamlingshus:55.234602;10.
 773174
END:VEVENT
END:VCALENDAR