BEGIN:VCALENDAR
VERSION:2.0
PRODID:Events Booking
BEGIN:VEVENT
UID:69e63df397cac
SUMMARY:Påske-Udstilling
DESCRIPTION:Traditionen tro holder jegPÅSKE-UDSTILLINGpå Musisk Værksted
 \, Boholtvej 9AiALLE påskens helligdage(dog ikke lørdag!)-Der er åbent 
 alle dagenekl. 13-16-På gensynKirsten
LOCATION:Boholtvej 9A\, Tårup\, 5871 Frørup
DTSTART:20220414T110000Z
DTEND:20220414T140000Z
DTSTAMP:20220406T035239Z
ORGANIZER:MAILTO:Tårupportalen
GEO:55.22914;10.790758
X-APPLE-STRUCTURED-LOCATION;VALUE=URI;X-ADDRESS=Boholtvej 9A\, Tårup\, 587
 1 Frørup;X-APPLE-RADIUS=72;X-TITLE=Musisk Værksted:55.22914;10.790758
END:VEVENT
BEGIN:VEVENT
UID:69e63df397d53
SUMMARY:Påske-Udstilling
DESCRIPTION:Traditionen tro holder jegPÅSKE-UDSTILLINGpå Musisk Værksted
 \, Boholtvej 9AiALLE påskens helligdage(dog ikke lørdag!)-Der er åbent 
 alle dagenekl. 13-16-På gensynKirsten
LOCATION:Boholtvej 9A\, Tårup\, 5871 Frørup
DTSTART:20220415T110000Z
DTEND:20220415T140000Z
DTSTAMP:20220406T040821Z
ORGANIZER:MAILTO:Tårupportalen
GEO:55.22914;10.790758
X-APPLE-STRUCTURED-LOCATION;VALUE=URI;X-ADDRESS=Boholtvej 9A\, Tårup\, 587
 1 Frørup;X-APPLE-RADIUS=72;X-TITLE=Musisk Værksted:55.22914;10.790758
END:VEVENT
BEGIN:VEVENT
UID:69e63df397d77
SUMMARY:Påske-Udstilling
DESCRIPTION:Traditionen tro holder jegPÅSKE-UDSTILLINGpå Musisk Værksted
 \, Boholtvej 9AiALLE påskens helligdage(dog ikke lørdag!)-Der er åbent 
 alle dagenekl. 13-16-På gensynKirsten
LOCATION:Boholtvej 9A\, Tårup\, 5871 Frørup
DTSTART:20220417T110000Z
DTEND:20220417T140000Z
DTSTAMP:20220406T035706Z
ORGANIZER:MAILTO:Tårupportalen
GEO:55.22914;10.790758
X-APPLE-STRUCTURED-LOCATION;VALUE=URI;X-ADDRESS=Boholtvej 9A\, Tårup\, 587
 1 Frørup;X-APPLE-RADIUS=72;X-TITLE=Musisk Værksted:55.22914;10.790758
END:VEVENT
BEGIN:VEVENT
UID:69e63df397d95
SUMMARY:Påske-Udstilling
DESCRIPTION:Traditionen tro holder jegPÅSKE-UDSTILLINGpå Musisk Værksted
 \, Boholtvej 9AiALLE påskens helligdage(dog ikke lørdag!)-Der er åbent 
 alle dagenekl. 13-16-På gensynKirsten
LOCATION:Boholtvej 9A\, Tårup\, 5871 Frørup
DTSTART:20220418T110000Z
DTEND:20220418T130000Z
DTSTAMP:20220406T041039Z
ORGANIZER:MAILTO:Tårupportalen
GEO:55.22914;10.790758
X-APPLE-STRUCTURED-LOCATION;VALUE=URI;X-ADDRESS=Boholtvej 9A\, Tårup\, 587
 1 Frørup;X-APPLE-RADIUS=72;X-TITLE=Musisk Værksted:55.22914;10.790758
END:VEVENT
BEGIN:VEVENT
UID:69e63df397db2
SUMMARY:Påskeudstilling på Musisk Værksted
DESCRIPTION:Påskeudstilling på Musisk VærkstedKirsten Thilsing-Hansen ud
 stiller malerier og keramiske værker i alle påskens helligdage (skærtor
 sdag - 2. påskedag)\, klokken 13-16
 Der vil være lidt musikalsk underh
 oldning den sidste dag klokken 15-16.Kom og kig! - det koster ikke noget!
LOCATION:Boholtvej 9A\, Tårup\, 5871 Frørup
DTSTART:20230406T110000Z
DTEND:20230406T140000Z
DTSTAMP:20230322T094109Z
ORGANIZER:MAILTO:Tårupportalen
GEO:55.22914;10.790758
X-APPLE-STRUCTURED-LOCATION;VALUE=URI;X-ADDRESS=Boholtvej 9A\, Tårup\, 587
 1 Frørup;X-APPLE-RADIUS=72;X-TITLE=Musisk Værksted:55.22914;10.790758
END:VEVENT
BEGIN:VEVENT
UID:69e63df397dcf
SUMMARY:Påskeudstilling på Musisk Værksted
DESCRIPTION:Påskeudstilling på Musisk VærkstedKirsten Thilsing-Hansen ud
 stiller malerier og keramiske værker i alle påskens helligdage (skærtor
 sdag - 2. påskedag)\, klokken 13-16
 Der vil være lidt musikalsk underh
 oldning den sidste dag klokken 15-16.Kom og kig! - det koster ikke noget!
LOCATION:Boholtvej 9A\, Tårup\, 5871 Frørup
DTSTART:20230407T110000Z
DTEND:20230407T140000Z
DTSTAMP:20230322T094109Z
ORGANIZER:MAILTO:Tårupportalen
GEO:55.22914;10.790758
X-APPLE-STRUCTURED-LOCATION;VALUE=URI;X-ADDRESS=Boholtvej 9A\, Tårup\, 587
 1 Frørup;X-APPLE-RADIUS=72;X-TITLE=Musisk Værksted:55.22914;10.790758
END:VEVENT
BEGIN:VEVENT
UID:69e63df397dee
SUMMARY:Påskeudstilling på Musisk Værksted
DESCRIPTION:Påskeudstilling på Musisk VærkstedKirsten Thilsing-Hansen ud
 stiller malerier og keramiske værker i alle påskens helligdage (skærtor
 sdag - 2. påskedag)\, klokken 13-16
LOCATION:Boholtvej 9A\, Tårup\, 5871 Frørup
DTSTART:20230409T110000Z
DTEND:20230409T140000Z
DTSTAMP:20230322T094109Z
ORGANIZER:MAILTO:Tårupportalen
GEO:55.22914;10.790758
X-APPLE-STRUCTURED-LOCATION;VALUE=URI;X-ADDRESS=Boholtvej 9A\, Tårup\, 587
 1 Frørup;X-APPLE-RADIUS=72;X-TITLE=Musisk Værksted:55.22914;10.790758
END:VEVENT
BEGIN:VEVENT
UID:69e63df397e09
SUMMARY:Påskeudstilling på Musisk Værksted
DESCRIPTION:Påskeudstilling på Musisk VærkstedKirsten Thilsing-Hansen ud
 stiller malerier og keramiske værker i alle påskens helligdage (skærtor
 sdag - 2. påskedag)\, klokken 13-16
LOCATION:Boholtvej 9A\, Tårup\, 5871 Frørup
DTSTART:20230410T110000Z
DTEND:20230410T140000Z
DTSTAMP:20230322T094109Z
ORGANIZER:MAILTO:Tårupportalen
GEO:55.22914;10.790758
X-APPLE-STRUCTURED-LOCATION;VALUE=URI;X-ADDRESS=Boholtvej 9A\, Tårup\, 587
 1 Frørup;X-APPLE-RADIUS=72;X-TITLE=Musisk Værksted:55.22914;10.790758
END:VEVENT
BEGIN:VEVENT
UID:69e63df397e23
SUMMARY:Sang og musikaften
DESCRIPTION:Sang og musikaften
LOCATION:Boholtvej 9A\, Tårup\, 5871 Frørup
DTSTART:20231114T180000Z
DTSTAMP:20231102T075741Z
ORGANIZER:MAILTO:Tårupportalen
GEO:55.22914;10.790758
X-APPLE-STRUCTURED-LOCATION;VALUE=URI;X-ADDRESS=Boholtvej 9A\, Tårup\, 587
 1 Frørup;X-APPLE-RADIUS=72;X-TITLE=Musisk Værksted:55.22914;10.790758
END:VEVENT
END:VCALENDAR