BEGIN:VCALENDAR
VERSION:2.0
PRODID:Events Booking
BEGIN:VEVENT
UID:69e63df39a447
SUMMARY:Tour de l’art
DESCRIPTION:TOUR DE L’ART - LOKAL KUNSTI forbindelse med Tour de France k
 ommer forbi Nyborg har Østfyns Kunstforening skabt deres eget Tour de l
 ’art\, hvor du på cykel kan komme på kunstrundtur i kommunen til lokal
 e kunstnere\, der inviterer til \"Åbne døre\".
LOCATION:Bækvej 10\, Tårup\, 5871 Frørup
DTSTART:20220528T090000Z
DTEND:20220528T150000Z
DTSTAMP:20220519T065511Z
ORGANIZER:MAILTO:Tårupportalen
GEO:55.23663;10.768531
X-APPLE-STRUCTURED-LOCATION;VALUE=URI;X-ADDRESS=Bækvej 10\, Tårup\, 5871 
 Frørup;X-APPLE-RADIUS=72;X-TITLE=Kunstrum Fyn:55.23663;10.768531
END:VEVENT
BEGIN:VEVENT
UID:69e63df39a4f7
SUMMARY:Tour de l’art
DESCRIPTION:TOUR DE L’ART - LOKAL KUNSTI forbindelse med Tour de France k
 ommer forbi Nyborg har Østfyns Kunstforening skabt deres eget Tour de l
 ’art\, hvor du på cykel kan komme på kunstrundtur i kommunen til lokal
 e kunstnere\, der inviterer til \"Åbne døre\".
LOCATION:Bækvej 10\, Tårup\, 5871 Frørup
DTSTART:20220529T090000Z
DTEND:20220529T150000Z
DTSTAMP:20220519T065511Z
ORGANIZER:MAILTO:Tårupportalen
GEO:55.23663;10.768531
X-APPLE-STRUCTURED-LOCATION;VALUE=URI;X-ADDRESS=Bækvej 10\, Tårup\, 5871 
 Frørup;X-APPLE-RADIUS=72;X-TITLE=Kunstrum Fyn:55.23663;10.768531
END:VEVENT
BEGIN:VEVENT
UID:69e63df39a51a
SUMMARY:Lancering af Tårup Dark Sky Festival 2023
DESCRIPTION:Velkommen til lancering af Tårup Dark Sky Festival 2023 mandag
  7. november kl. 18:00-20:30!
 Mandag 7. november lancerer Kunstrum Fyn -
  Tårup Dark Sky\, en ny nordisk kunst- og videnskabsfestival som har stje
 rnehimmelen som sit udgangspunkt.Festivallanceringen foregår i landsbyen 
 Tårup ved Nyborg med et spændende fagligt program med kunstnerpræsentat
 ioner\, stjernestøvforedrag\, filmvisning\, bespisning og bar.
 Lancerin
 gsprogram:&nbsp\;
 
 Velkommen og præsentation af Tårup Dark Sky Festi
 val\, festivalens bidragsydere og samarbejdspartnere ved initiativtagere H
 elga-Marie Nordby og Crispin Gurholt
 Præsentation af arkitektskitse Kun
 strum Fyn ved Sunke arkitekter
 Præsentation af Lydvandring under stjern
 erne ved Sans-1
 Bevar mørket ved astronom Vegard Lundby Rekaa
 
 Paus
 e med bespisning og bar
 
 Filmvisning The Intimacy of Strangers af kuns
 tner HC Gilje
 Foredrag ved Stjernestøvforsker Jon Larsen
 
 Tårup Da
 rk Sky Festival bliver arrangeret i Tårup af Kunstrum Fyn for første gan
 g 31. august – 10. september 2023. Festivalen har som ambition at blive 
 et toneangivende mødested i Norden for kunstnere\, forskere og publikum\,
  der søger større bevidsthed og kundskab om universet og som ønsker at 
 undersøge\, hvordan vi sammen kan skabe en bedre og grønnere fremtid. Fe
 stivalen kombinerer kunstoplevelser ude og inde\, med kundskab- og vidensf
 ormidling og har specielt fokus på at engagere børn og unge. Festivalpro
 grammet i 2023 består af en hovedudstilling\, kunstprojekter i offentlige
  rum\, workshops\, stjernevandringer\, foredrag\, debatter\, præsentation
 er og seminar. Kunstrum Fyn vil også invitere kunstnere fra Norden til T
 årup for at udvikle stedspecifikke kunstprojekter over tid\, i nær dialo
 g med lokale omgivelser ude og inde. Sammen med nordiske forskere og akade
 mikere vil festivalen tilbyde et tværfagligt program af høj kvalitet.
 
 Kunstrum Fyn er en nylig etableret forening\, der baserer sig på produkti
 on og formidling af kunstoplevelser med et bæredygtigt og inkluderende pe
 rspektiv. Kunstrum Fyn vil udvikle danske\, nordiske og internationale kun
 stprojekter og udstillinger med udgangspunkt i en lokal og stedsspecifik k
 ontekst. Kunstrum Fyn har en tværfagligt profil der søger at skabe dialo
 g mellem kunst og videnskab. Kunstrum Fyn skal tilbyde udstillinger\, resi
 densprogram for kunstnere og forskere samt arbejdsmuligheder for nyuddanne
 de kunstnere.
 S.U. inden torsdag 3. november til Denne e-mail adresse bl
 iver beskyttet mod spambots. Du skal have JavaScript aktiveret for at vise
  den.
 Husk varmt tøj
 Kunstrum FynBækvej 10 - Tårup5871 FrørupDenne
  e-mail adresse bliver beskyttet mod spambots. Du skal have JavaScript akt
 iveret for at vise den.+45 22857580
 
LOCATION:Bækvej 10\, Tårup\, 5871 Frørup
DTSTART:20221107T170000Z
DTEND:20221107T193000Z
DTSTAMP:20221026T172430Z
ORGANIZER:MAILTO:Tårupportalen
GEO:55.23663;10.768531
X-APPLE-STRUCTURED-LOCATION;VALUE=URI;X-ADDRESS=Bækvej 10\, Tårup\, 5871 
 Frørup;X-APPLE-RADIUS=72;X-TITLE=Kunstrum Fyn:55.23663;10.768531
END:VEVENT
BEGIN:VEVENT
UID:69e63df39a545
SUMMARY:Tårup Dark Sky Festival
DESCRIPTION:Tårup Dark Sky Festival - Kunstrum Fyn
 Se program
 
LOCATION:Bækvej 10\, Tårup\, 5871 Frørup
DTSTART:20230830T221500Z
DTSTAMP:20230813T183358Z
ORGANIZER:MAILTO:Tårupportalen
GEO:55.23663;10.768531
X-APPLE-STRUCTURED-LOCATION;VALUE=URI;X-ADDRESS=Bækvej 10\, Tårup\, 5871 
 Frørup;X-APPLE-RADIUS=72;X-TITLE=Kunstrum Fyn:55.23663;10.768531
END:VEVENT
BEGIN:VEVENT
UID:69e63df39a55e
SUMMARY:Tårup Dark Sky Festival
DESCRIPTION:Tårup Dark Sky Festival - Kunstrum Fyn
LOCATION:Bækvej 10\, Tårup\, 5871 Frørup
DTSTART:20230901T120000Z
DTSTAMP:20230630T124814Z
ORGANIZER:MAILTO:Tårupportalen
GEO:55.23663;10.768531
X-APPLE-STRUCTURED-LOCATION;VALUE=URI;X-ADDRESS=Bækvej 10\, Tårup\, 5871 
 Frørup;X-APPLE-RADIUS=72;X-TITLE=Kunstrum Fyn:55.23663;10.768531
END:VEVENT
BEGIN:VEVENT
UID:69e63df39a573
SUMMARY:Tårup Dark Sky Festival
DESCRIPTION:Tårup Dark Sky Festival - Kunstrum Fyn
LOCATION:Bækvej 10\, Tårup\, 5871 Frørup
DTSTART:20230902T100000Z
DTSTAMP:20230630T125213Z
ORGANIZER:MAILTO:Tårupportalen
GEO:55.23663;10.768531
X-APPLE-STRUCTURED-LOCATION;VALUE=URI;X-ADDRESS=Bækvej 10\, Tårup\, 5871 
 Frørup;X-APPLE-RADIUS=72;X-TITLE=Kunstrum Fyn:55.23663;10.768531
END:VEVENT
BEGIN:VEVENT
UID:69e63df39a588
SUMMARY:Tårup Dark Sky Festival
DESCRIPTION:Tårup Dark Sky Festival - Kunstrum Fyn
LOCATION:Bækvej 10\, Tårup\, 5871 Frørup
DTSTART:20230903T100000Z
DTSTAMP:20230630T124516Z
ORGANIZER:MAILTO:Tårupportalen
GEO:55.23663;10.768531
X-APPLE-STRUCTURED-LOCATION;VALUE=URI;X-ADDRESS=Bækvej 10\, Tårup\, 5871 
 Frørup;X-APPLE-RADIUS=72;X-TITLE=Kunstrum Fyn:55.23663;10.768531
END:VEVENT
BEGIN:VEVENT
UID:69e63df39a59e
SUMMARY:Åbn video XVI Videokunst af 128 kunstnere
DESCRIPTION:Åbn video XVIVideokunst af 128 kunstnere27. – 29. oktober 20
 23
 Kurateret af Janne Talstad og Kunstrum FynVelkommen til fernisering f
 redag den 27. oktober klokken 19 – 22!Videokunst\, filmvisninger\, kunst
 værker\, talks og bar.
 Åbningstider Kunstrum FynLørdag den 28. oktobe
 r kl. 12-18Søndag den 29. oktober kl. 12-16
 Gratis adgang
 &nbsp\;
 &
 nbsp\;
LOCATION:Bækvej 10\, Tårup\, 5871 Frørup
DTSTART:20231027T170000Z
DTEND:20231027T200000Z
DTSTAMP:20231025T054434Z
ORGANIZER:MAILTO:Tårupportalen
GEO:55.23663;10.768531
X-APPLE-STRUCTURED-LOCATION;VALUE=URI;X-ADDRESS=Bækvej 10\, Tårup\, 5871 
 Frørup;X-APPLE-RADIUS=72;X-TITLE=Kunstrum Fyn:55.23663;10.768531
END:VEVENT
BEGIN:VEVENT
UID:69e63df39a5c5
SUMMARY:Åbn video XVI Videokunst af 128 kunstnere
DESCRIPTION:Åbn video XVIVideokunst af 128 kunstnere27. – 29. oktober 20
 23
 Kurateret af Janne Talstad og Kunstrum FynVelkommen til fernisering f
 redag den 27. oktober klokken 19 – 22!Videokunst\, filmvisninger\, kunst
 værker\, talks og bar.
 Åbningstider Kunstrum FynLørdag den 28. oktobe
 r kl. 12-18Søndag den 29. oktober kl. 12-16
 Gratis adgang
 &nbsp\;
 &
 nbsp\;
LOCATION:Bækvej 10\, Tårup\, 5871 Frørup
DTSTART:20231028T100000Z
DTEND:20231028T160000Z
DTSTAMP:20231025T054434Z
ORGANIZER:MAILTO:Tårupportalen
GEO:55.23663;10.768531
X-APPLE-STRUCTURED-LOCATION;VALUE=URI;X-ADDRESS=Bækvej 10\, Tårup\, 5871 
 Frørup;X-APPLE-RADIUS=72;X-TITLE=Kunstrum Fyn:55.23663;10.768531
END:VEVENT
BEGIN:VEVENT
UID:69e63df39a5e6
SUMMARY:Åbn video XVI Videokunst af 128 kunstnere
DESCRIPTION:Åbn video XVIVideokunst af 128 kunstnere27. – 29. oktober 20
 23
 Kurateret af Janne Talstad og Kunstrum FynVelkommen til fernisering f
 redag den 27. oktober klokken 19 – 22!Videokunst\, filmvisninger\, kunst
 værker\, talks og bar.
 Åbningstider Kunstrum FynLørdag den 28. oktobe
 r kl. 12-18Søndag den 29. oktober kl. 12-16
 Gratis adgang
 &nbsp\;
LOCATION:Bækvej 10\, Tårup\, 5871 Frørup
DTSTART:20231029T110000Z
DTEND:20231029T150000Z
DTSTAMP:20231025T054434Z
ORGANIZER:MAILTO:Tårupportalen
GEO:55.23663;10.768531
X-APPLE-STRUCTURED-LOCATION;VALUE=URI;X-ADDRESS=Bækvej 10\, Tårup\, 5871 
 Frørup;X-APPLE-RADIUS=72;X-TITLE=Kunstrum Fyn:55.23663;10.768531
END:VEVENT
END:VCALENDAR