BEGIN:VCALENDAR
VERSION:2.0
PRODID:Events Booking
BEGIN:VEVENT
UID:69e63df397c06
SUMMARY:Dialogmøde - Kulturarv - Frørup
DESCRIPTION:Dialogmøde - Kulturarv - Frørup
LOCATION:Kogsbøllevej 83\, 5871 Frørup
DTSTART:20220421T150000Z
DTSTAMP:20220222T184247Z
ORGANIZER:MAILTO:Tårupportalen
GEO:55.243539;10.718476
X-APPLE-STRUCTURED-LOCATION;VALUE=URI;X-ADDRESS=Kogsbøllevej 83\, 5871 Fr
 ørup;X-APPLE-RADIUS=72;X-TITLE=Frørup Forsamlingshus:55.243539;10.718476
END:VEVENT
BEGIN:VEVENT
UID:69e63df397cb4
SUMMARY:Sct. Hans aften
DESCRIPTION:Sankt Hans aften på Frørupgaard (Toftvej) i Frørup torsdag d
 . 23. juni.
 Landsbyrådet inviterer til Sankt Hans på Frørupgaard. Byr
 ådsmedlem Per Chrone Jespersen vil holde båltalen kl. 19.30. Derefter t
 ænder Jaris Juul-Jørgensen bålet\, og vi synger Midsommervisen. Vi sats
 er på\, at en af klasserne på skolen vil lave en fin heks til bålet. De
 r er snobrød til børnene\, og Landsbyrådet sælger øl og vand.
 Kom o
 g vær med til en hyggelig aften\, hvor børnene kan lege udenfor og lave 
 snobrød\, og vi voksne ønsker hinanden en god sommer.
 Venlig hilsen
 
 Frørup Landsbyråd
LOCATION:Toftvej 4\, 5871 Frørup
DTSTART:20220623T173000Z
DTSTAMP:20220612T174023Z
ORGANIZER:MAILTO:Tårupportalen
GEO:55.241084;10.717423
X-APPLE-STRUCTURED-LOCATION;VALUE=URI;X-ADDRESS=Toftvej 4\, 5871 Frørup;X-
 APPLE-RADIUS=72;X-TITLE=Frørupgård:55.241084;10.717423
END:VEVENT
BEGIN:VEVENT
UID:69e63df397cd3
SUMMARY:Affaldsindsamling i Frørup
DESCRIPTION:Danmarks Naturfredningsforenings årlige Affaldsindsamling - Fr
 ørup 2023
 Vi mødes søndag d. 26. marts kl. 10 ved rosenbedene ved den
  vestlige indkørsel til Frørup. Der bliver udleveret affaldsposer. Hav s
 elv handsker med.
 Omkring Frørup drejer det sig om grøftekanterne på 
 Frørupvej fra præstegårdsskoven og ned til 4Kløverskolen.
 Vi går en
  times tid\, og derefter henter Landsbyrådet affaldssækkene og kører de
 m på genbrug.
 Mvh Frørup Landsbyråd
LOCATION:Frørupvej\, Frørup\, Nyborg Kommune\, Region Syddanmark\, 5871\,
  Danmark
DTSTART:20230326T080000Z
DTSTAMP:20230322T065023Z
ORGANIZER:MAILTO:Tårupportalen
GEO:55.242587;10.709001
X-APPLE-STRUCTURED-LOCATION;VALUE=URI;X-ADDRESS=Frørupvej\, Frørup\, Nybo
 rg Kommune\, Region Syddanmark\, 5871\, Danmark;X-APPLE-RADIUS=72;X-TITLE=
 Vestlig indgang til Frørup:55.242587;10.709001
END:VEVENT
BEGIN:VEVENT
UID:69e63df397cec
SUMMARY:Juletræsfest i Frørup Forsamlingshus
DESCRIPTION:Juletræsfest i Frørup Forsamlingshus
LOCATION:Kogsbøllevej 83\, 5871 Frørup
DTSTART:20231210T130000Z
DTEND:20231210T153000Z
DTSTAMP:20231117T142338Z
ORGANIZER:MAILTO:Tårupportalen
GEO:55.243539;10.718476
X-APPLE-STRUCTURED-LOCATION;VALUE=URI;X-ADDRESS=Kogsbøllevej 83\, 5871 Fr
 ørup;X-APPLE-RADIUS=72;X-TITLE=Frørup Forsamlingshus:55.243539;10.718476
END:VEVENT
END:VCALENDAR