BEGIN:VCALENDAR
VERSION:2.0
PRODID:Events Booking
BEGIN:VEVENT
UID:69e63eebc4288
SUMMARY:Onsdagsgåtur
DESCRIPTION:Gåture fra Tårup forsamlingshus onsdage kl. 9. 
LOCATION:Tårup Byvej 26\, Tårup\, 5871 Frørup
DTSTART:20241204T080000Z
DTSTAMP:20231228T123427Z
ORGANIZER;CN=Tårupportalen:MAILTO:redaktionen@taarupportalen.dk
GEO:55.234602;10.773174
X-APPLE-STRUCTURED-LOCATION;VALUE=URI;X-ADDRESS=Tårup Byvej 26\, Tårup\, 
 5871 Frørup;X-APPLE-RADIUS=72;X-TITLE=Tårup Forsamlingshus:55.234602;10.
 773174
END:VEVENT
END:VCALENDAR