BEGIN:VCALENDAR
VERSION:2.0
PRODID:Events Booking
BEGIN:VEVENT
UID:69e642e1048ee
SUMMARY:Drop-in-kaffebord
DESCRIPTION:Drop-in-kaffebord i Tårup forsamlingshus
LOCATION:Tårup Byvej 26\, Tårup\, 5871 Frørup
DTSTART:20240114T090000Z
DTEND:20240114T110000Z
DTSTAMP:20231226T094716Z
ORGANIZER;CN=Tårupportalen:MAILTO:redaktionen@taarupportalen.dk
GEO:55.234602;10.773174
X-APPLE-STRUCTURED-LOCATION;VALUE=URI;X-ADDRESS=Tårup Byvej 26\, Tårup\, 
 5871 Frørup;X-APPLE-RADIUS=72;X-TITLE=Tårup Forsamlingshus:55.234602;10.
 773174
END:VEVENT
END:VCALENDAR