BEGIN:VCALENDAR
VERSION:2.0
PRODID:Events Booking
BEGIN:VEVENT
UID:69e65223a857e
SUMMARY:Åbn video XVI Videokunst af 128 kunstnere
DESCRIPTION:Åbn video XVIVideokunst af 128 kunstnere27. – 29. oktober 20
 23
 Kurateret af Janne Talstad og Kunstrum FynVelkommen til fernisering f
 redag den 27. oktober klokken 19 – 22!Videokunst\, filmvisninger\, kunst
 værker\, talks og bar.
 Åbningstider Kunstrum FynLørdag den 28. oktobe
 r kl. 12-18Søndag den 29. oktober kl. 12-16
 Gratis adgang
 &nbsp\;
 &
 nbsp\;
LOCATION:Bækvej 10\, Tårup\, 5871 Frørup
DTSTART:20231028T100000Z
DTEND:20231028T160000Z
DTSTAMP:20231025T054434Z
ORGANIZER;CN=Tårupportalen:MAILTO:redaktionen@taarupportalen.dk
GEO:55.23663;10.768531
X-APPLE-STRUCTURED-LOCATION;VALUE=URI;X-ADDRESS=Bækvej 10\, Tårup\, 5871 
 Frørup;X-APPLE-RADIUS=72;X-TITLE=Kunstrum Fyn:55.23663;10.768531
END:VEVENT
END:VCALENDAR