BEGIN:VCALENDAR
VERSION:2.0
PRODID:Events Booking
BEGIN:VEVENT
UID:69e63f4d4f009
SUMMARY:Festligholdelse af stejlepladsen ved Tårup Strand
DESCRIPTION:Festligholdelse af stejlepladsen ved Tårup strand
LOCATION:Kystvej\, Frørup 5871
DTSTART:20231028T120000Z
DTEND:20231028T140000Z
DTSTAMP:20231013T075208Z
ORGANIZER;CN=Tårupportalen:MAILTO:redaktionen@taarupportalen.dk
GEO:55.24427;10.80557
X-APPLE-STRUCTURED-LOCATION;VALUE=URI;X-ADDRESS=Kystvej\, Frørup 5871;X-AP
 PLE-RADIUS=72;X-TITLE=Tårup Strand:55.24427;10.80557
END:VEVENT
END:VCALENDAR