BEGIN:VCALENDAR
VERSION:2.0
PRODID:Events Booking
BEGIN:VEVENT
UID:69e650d7aece7
SUMMARY:Glaskunst workshop
DESCRIPTION:Galleri Kiel Ratzow åbner op for sæsonen i påsken. Tirsdag o
 g torsdag er der mulighed for at deltage i en glaskunstworkshop kl. 10-12.
 30 og om eftermiddagen er galleriet åbent kl. 14-18.
 I galleriet udstil
 ler Stine sine skulpturer og smykker i glas\, bronze og sølv.
 Glaskunst
 workshops er både for børn (fra 8 år) og voksne.Med små glasstykker i 
 alverdens farver og små glasplader lærer du at fremstille det fineste gl
 asbillede til at have stående eller hængende.
 Pris: 300\,-/deltagerMat
 erialer afregnes på dagen (normalvist 75-200\,-kr/deltager)Der serveres s
 aft\, vand\, kaffe og the.
 Man er endeligt tilmeldt ved forudbetaling af
  deltagerbetaling med Mobile Pay eller ved bankoverførsel senest dagen f
 ør workshoppen.
 Her oplyses:Antal deltagereEvt antal hjælpereTilmeldin
 g og bestilling hos Stine på: 25317679Adresse: Bækvej 3\, Tårup\, 5871
LOCATION:Bækvej 3\, Tårup\, 5871 Frørup
DTSTART:20230406T080000Z
DTEND:20230406T103000Z
DTSTAMP:20230330T185746Z
ORGANIZER;CN=Tårupportalen:MAILTO:redaktionen@taarupportalen.dk
GEO:55.237656;10.77464
X-APPLE-STRUCTURED-LOCATION;VALUE=URI;X-ADDRESS=Bækvej 3\, Tårup\, 5871 F
 rørup;X-APPLE-RADIUS=72;X-TITLE=Galleri Kiel Ratzow:55.237656;10.77464
END:VEVENT
END:VCALENDAR