BEGIN:VCALENDAR
VERSION:2.0
PRODID:Events Booking
BEGIN:VEVENT
UID:69e6912d8f356
SUMMARY:Grill under Egen i Tårup
DESCRIPTION:Vi mødes i grillhytten\, ”Under Egen” Kl. 18.00\, hvor der
  er tændt op. Medbring egen mad og drikke og hyg dig med børn og voksne 
 fra nabolaget. Tilmelding ikke nødvendig.
 ”Under Egen”
 Birgit og 
 Karsten Mengel
DTSTART:20230815T160000Z
DTSTAMP:20230218T105043Z
ORGANIZER;CN=Tårupportalen:MAILTO:redaktionen@taarupportalen.dk
END:VEVENT
END:VCALENDAR