BEGIN:VCALENDAR
VERSION:2.0
PRODID:Events Booking
BEGIN:VEVENT
UID:69e690f5f1248
SUMMARY:Grill under Egen i Tårup
DESCRIPTION:Hvis afbrændingsforbuddet er ophævet vil vi afholde Grillafte
 n ”Under Egen” torsdag den 29/06/2023
 Vi mødes i grillhytten\, ”U
 nder Egen” Kl. 18.00\, hvor der er tændt op. Medbring egen mad og drikk
 e og hyg dig med børn og voksne fra nabolaget. Tilmelding ikke nødvendig
 .
 ”Under Egen”
 Birgit og Karsten Mengel
LOCATION:Brydevej 1\, Tårup\, 5871 Frørup
DTSTART:20230629T160000Z
DTSTAMP:20230218T104736Z
ORGANIZER;CN=Tårupportalen:MAILTO:redaktionen@taarupportalen.dk
GEO:55.234537;10.772353
X-APPLE-STRUCTURED-LOCATION;VALUE=URI;X-ADDRESS=Brydevej 1\, Tårup\, 5871 
 Frørup;X-APPLE-RADIUS=72;X-TITLE=Under Egen i Tårup:55.234537;10.772353
END:VEVENT
END:VCALENDAR