BEGIN:VCALENDAR
VERSION:2.0
PRODID:Events Booking
BEGIN:VEVENT
UID:69e68e60e9e26
SUMMARY:Onsdagsgåtur til Glorup
DESCRIPTION:Tur til parken ved Glorup.De flittige fodgængere fra Tårup\, 
 har onsdag den 7. juni\, arrangeret en tur i parken og skoven omkring Glor
 up.
 &nbsp\;
 Vi mødes kl. 9 ved forsamlingshuset og kører derefter ti
 l parkeringspladsen ved Glorup. Gå turen er på ca. 7 km med en indlagt p
 ause.
 Efter gåturen\, besøger vi Vinnies cafe´ og forretning på Glor
 upvej. Vinnie serverer en kop kaffe/the og en bolle\, pris ca. 30 kr. Det 
 plejer at være hyggeligt.
 Hilsen Lotte fra gågruppen
LOCATION:Brydevej 1\, Tårup\, 5871 Frørup
DTSTART:20230607T070000Z
DTSTAMP:20230112T164137Z
ORGANIZER;CN=Tårupportalen:MAILTO:redaktionen@taarupportalen.dk
GEO:55.234537;10.772353
X-APPLE-STRUCTURED-LOCATION;VALUE=URI;X-ADDRESS=Brydevej 1\, Tårup\, 5871 
 Frørup;X-APPLE-RADIUS=72;X-TITLE=Under Egen i Tårup:55.234537;10.772353
END:VEVENT
END:VCALENDAR