BEGIN:VCALENDAR
VERSION:2.0
PRODID:Events Booking
BEGIN:VEVENT
UID:69e67bef7e936
SUMMARY:Onsdagsgåtur - Tur til Sorø
DESCRIPTION:Onsdagsgåtur til Sorø.Onsdag den 10. maj\, er Jesper leder af
  en tur rundt om søerne ved skovene og Akademiet i Sorø. Der vil være f
 ælleskørsel fra Tårup forsamlingshus 8.15 - hjemkomst ved 16 tiden.
LOCATION:Brydevej 1\, Tårup\, 5871 Frørup
DTSTART:20230510T070000Z
DTSTAMP:20230112T164137Z
ORGANIZER;CN=Tårupportalen:MAILTO:redaktionen@taarupportalen.dk
GEO:55.234537;10.772353
X-APPLE-STRUCTURED-LOCATION;VALUE=URI;X-ADDRESS=Brydevej 1\, Tårup\, 5871 
 Frørup;X-APPLE-RADIUS=72;X-TITLE=Under Egen i Tårup:55.234537;10.772353
END:VEVENT
END:VCALENDAR