BEGIN:VCALENDAR
VERSION:2.0
PRODID:Events Booking
BEGIN:VEVENT
UID:69e63f8132d41
SUMMARY:Kreativt genbrug - metal\, træ \, ledninger\, uld læder og perler
DESCRIPTION:Kreativt genbrug - metal\, træ \, ledninger\, uld læder og pe
 rler
 &nbsp\;
LOCATION:Åvej 7\, Tårup\, 5871 Frørup
DTSTART:20221113T090000Z
DTEND:20221113T140000Z
DTSTAMP:20221027T071009Z
ORGANIZER;CN=Tårupportalen:MAILTO:redaktionen@taarupportalen.dk
GEO:55.2294;10.745568
X-APPLE-STRUCTURED-LOCATION;VALUE=URI;X-ADDRESS=Åvej 7\, Tårup\, 5871 Fr
 ørup;X-APPLE-RADIUS=72;X-TITLE=Åvej  7:55.2294;10.745568
END:VEVENT
END:VCALENDAR