BEGIN:VCALENDAR
VERSION:2.0
PRODID:Events Booking
BEGIN:VEVENT
UID:69e63e07cfb32
SUMMARY:Glas workshop
DESCRIPTION:Glas workshop i Galleri Kiel Ratzow
LOCATION:Bækvej 3\, Tårup\, 5871 Frørup
DTSTART:20220727T120000Z
DTEND:20220727T143000Z
DTSTAMP:20220627T181829Z
ORGANIZER;CN=Tårupportalen:MAILTO:redaktionen@taarupportalen.dk
GEO:55.237656;10.77464
X-APPLE-STRUCTURED-LOCATION;VALUE=URI;X-ADDRESS=Bækvej 3\, Tårup\, 5871 F
 rørup;X-APPLE-RADIUS=72;X-TITLE=Galleri Kiel Ratzow:55.237656;10.77464
END:VEVENT
END:VCALENDAR