BEGIN:VCALENDAR
VERSION:2.0
PRODID:Events Booking
BEGIN:VEVENT
UID:69e63df4205ae
SUMMARY:Loppemarked
DESCRIPTION:Vi afholder et loppemarked
 Lørdag den 18. juni
 Brandgaden 
 10
 5871 Tårup
 &nbsp\;
 Fra kl 10-15.00
 &nbsp\;
 Læg vejen forbi 
 og kom og gør
 En god handel
LOCATION:Brandgaden 10\, Tårup\, %871 Frørup
DTSTART:20220618T080000Z
DTEND:20220618T130000Z
DTSTAMP:20220617T155638Z
ORGANIZER;CN=Tårupportalen:MAILTO:redaktionen@taarupportalen.dk
GEO:55.230133;10.772851
X-APPLE-STRUCTURED-LOCATION;VALUE=URI;X-ADDRESS=Brandgaden 10\, Tårup\, %8
 71 Frørup;X-APPLE-RADIUS=72;X-TITLE=Brandgaden 10:55.230133;10.772851
END:VEVENT
END:VCALENDAR