BEGIN:VCALENDAR
VERSION:2.0
PRODID:Events Booking
BEGIN:VEVENT
UID:69e62cf70e728
SUMMARY:Aflyst Foredrag v. cellist Ida Riegels
DESCRIPTION:Aflyst - Foredrag med Cellist Ida Riegels der fortæller og und
 erholder med musik
LOCATION:Tårup Byvej 26\, Tårup\, 5871 Frørup
DTSTART:20220127T183000Z
DTEND:20220127T203000Z
DTSTAMP:20260420T154111Z
ORGANIZER;CN=Tårupportalen:MAILTO:redaktionen@taarupportalen.dk
GEO:55.234602;10.773174
X-APPLE-STRUCTURED-LOCATION;VALUE=URI;X-ADDRESS=Tårup Byvej 26\, Tårup\, 
 5871 Frørup;X-APPLE-RADIUS=72;X-TITLE=Tårup Forsamlingshus:55.234602;10.
 773174
END:VEVENT
END:VCALENDAR