BEGIN:VCALENDAR
VERSION:2.0
PRODID:Events Booking
BEGIN:VEVENT
UID:69e63df395440
SUMMARY:Påske-Udstilling
DESCRIPTION:Traditionen tro holder jegPÅSKE-UDSTILLINGpå Musisk Værksted
 \, Boholtvej 9AiALLE påskens helligdage(dog ikke lørdag!)-Der er åbent 
 alle dagenekl. 13-16-På gensynKirsten
LOCATION:Boholtvej 9A\, Tårup\, 5871 Frørup
DTSTART:20220417T110000Z
DTEND:20220417T140000Z
DTSTAMP:20220406T035706Z
ORGANIZER;CN=Tårupportalen:MAILTO:redaktionen@taarupportalen.dk
GEO:55.22914;10.790758
X-APPLE-STRUCTURED-LOCATION;VALUE=URI;X-ADDRESS=Boholtvej 9A\, Tårup\, 587
 1 Frørup;X-APPLE-RADIUS=72;X-TITLE=Musisk Værksted:55.22914;10.790758
END:VEVENT
END:VCALENDAR