BEGIN:VCALENDAR
VERSION:2.0
PRODID:Events Booking
BEGIN:VEVENT
UID:69e62dbe4eb93
SUMMARY:Jeres sogn – Jeres historie – Vores fælles kulturarv
DESCRIPTION:Jeres sogn – Jeres historie – Vores fælles kulturarvIndbyd
 else til dialogmøde i Tårup Forsamlingshus torsdag den 28. april kl. 17.
 00 – 18.30
LOCATION:Tårup Byvej 26\, Tårup\, 5871 Frørup
DTSTART:20220428T150000Z
DTEND:20220428T163000Z
DTSTAMP:20220325T142807Z
ORGANIZER;CN=Tårupportalen:MAILTO:redaktionen@taarupportalen.dk
GEO:55.234602;10.773174
X-APPLE-STRUCTURED-LOCATION;VALUE=URI;X-ADDRESS=Tårup Byvej 26\, Tårup\, 
 5871 Frørup;X-APPLE-RADIUS=72;X-TITLE=Tårup Forsamlingshus:55.234602;10.
 773174
END:VEVENT
END:VCALENDAR