BEGIN:VCALENDAR
VERSION:2.0
PRODID:Events Booking
BEGIN:VEVENT
UID:69e63df395411
SUMMARY:Genbrugsindsamling
DESCRIPTION:Genbrugsindsamling
LOCATION:Sportsvænget 4\, 5871 Frørup
DTSTART:20210424T060000Z
DTSTAMP:20260420T165339Z
ORGANIZER;CN=Tårupportalen:MAILTO:redaktionen@taarupportalen.dk
GEO:55.236768;10.739373
X-APPLE-STRUCTURED-LOCATION;VALUE=URI;X-ADDRESS=Sportsvænget 4\, 5871 Frø
 rup;X-APPLE-RADIUS=72;X-TITLE=Tårup Idrætsforening:55.236768;10.739373
END:VEVENT
END:VCALENDAR