BEGIN:VCALENDAR
VERSION:2.0
PRODID:Events Booking
BEGIN:VEVENT
UID:69e62db7ea5de
SUMMARY:Om Carl Constantin Hansen
DESCRIPTION:Om passion for slægt og om guldaldermaler Carl Constantin Hans
 en
LOCATION:Bækvej 10\, Tårup\, 5871 Frørup
DTSTART:20200806T173000Z
DTSTAMP:20260420T154423Z
ORGANIZER;CN=Tårupportalen:MAILTO:redaktionen@taarupportalen.dk
GEO:55.236619;10.768769
X-APPLE-STRUCTURED-LOCATION;VALUE=URI;X-ADDRESS=Bækvej 10\, Tårup\, 5871 
 Frørup;X-APPLE-RADIUS=72;X-TITLE=Nordholt Gård:55.236619;10.768769
END:VEVENT
END:VCALENDAR